BEGIN:VCALENDAR
VERSION:2.0
PRODID:-//Promise Resource Network - ECPv6.15.20//NONSGML v1.0//EN
CALSCALE:GREGORIAN
METHOD:PUBLISH
X-WR-CALNAME:Promise Resource Network
X-ORIGINAL-URL:https://promiseresourcenetwork.org
X-WR-CALDESC:Events for Promise Resource Network
REFRESH-INTERVAL;VALUE=DURATION:PT1H
X-Robots-Tag:noindex
X-PUBLISHED-TTL:PT1H
BEGIN:VTIMEZONE
TZID:America/New_York
BEGIN:DAYLIGHT
TZOFFSETFROM:-0500
TZOFFSETTO:-0400
TZNAME:EDT
DTSTART:20240310T070000
END:DAYLIGHT
BEGIN:STANDARD
TZOFFSETFROM:-0400
TZOFFSETTO:-0500
TZNAME:EST
DTSTART:20241103T060000
END:STANDARD
BEGIN:DAYLIGHT
TZOFFSETFROM:-0500
TZOFFSETTO:-0400
TZNAME:EDT
DTSTART:20250309T070000
END:DAYLIGHT
BEGIN:STANDARD
TZOFFSETFROM:-0400
TZOFFSETTO:-0500
TZNAME:EST
DTSTART:20251102T060000
END:STANDARD
BEGIN:DAYLIGHT
TZOFFSETFROM:-0500
TZOFFSETTO:-0400
TZNAME:EDT
DTSTART:20260308T070000
END:DAYLIGHT
BEGIN:STANDARD
TZOFFSETFROM:-0400
TZOFFSETTO:-0500
TZNAME:EST
DTSTART:20261101T060000
END:STANDARD
END:VTIMEZONE
BEGIN:VEVENT
DTSTART;TZID=America/New_York:20251103T140000
DTEND;TZID=America/New_York:20251103T150000
DTSTAMP:20260420T163315
CREATED:20251030T214450Z
LAST-MODIFIED:20251030T214450Z
UID:10011493-1762178400-1762182000@promiseresourcenetwork.org
SUMMARY:Circle
DESCRIPTION:
URL:https://promiseresourcenetwork.org/event/circle/2025-11-03/
LOCATION:Promise Resource Network\, 1401 E 7th Street\, Charlotte\, NC\, 28204\, United States
CATEGORIES:Charlotte,Charlotte Cafe,On-Site
END:VEVENT
BEGIN:VEVENT
DTSTART;TZID=America/New_York:20251104T130000
DTEND;TZID=America/New_York:20251104T140000
DTSTAMP:20260420T163315
CREATED:20251030T215007Z
LAST-MODIFIED:20251030T215007Z
UID:10011504-1762261200-1762264800@promiseresourcenetwork.org
SUMMARY:Recovery Cafe/Coffee Hour
DESCRIPTION:
URL:https://promiseresourcenetwork.org/event/recovery-cafe-coffee-hour/2025-11-04/
LOCATION:Promise Resource Network\, 1401 E 7th Street\, Charlotte\, NC\, 28204\, United States
CATEGORIES:Charlotte,Charlotte Cafe
END:VEVENT
BEGIN:VEVENT
DTSTART;TZID=America/New_York:20251104T133000
DTEND;TZID=America/New_York:20251104T140000
DTSTAMP:20260420T163315
CREATED:20251030T215207Z
LAST-MODIFIED:20251030T215207Z
UID:10011511-1762263000-1762264800@promiseresourcenetwork.org
SUMMARY:Coffee Hour/Milieu
DESCRIPTION:
URL:https://promiseresourcenetwork.org/event/coffee-hour-milieu/2025-11-04/
LOCATION:Promise Resource Network\, 1401 E 7th Street\, Charlotte\, NC\, 28204\, United States
CATEGORIES:Charlotte,Charlotte Cafe
END:VEVENT
BEGIN:VEVENT
DTSTART;TZID=America/New_York:20251104T140000
DTEND;TZID=America/New_York:20251104T150000
DTSTAMP:20260420T163315
CREATED:20251030T214450Z
LAST-MODIFIED:20251030T214450Z
UID:10011494-1762264800-1762268400@promiseresourcenetwork.org
SUMMARY:Circle
DESCRIPTION:
URL:https://promiseresourcenetwork.org/event/circle/2025-11-04/
LOCATION:Promise Resource Network\, 1401 E 7th Street\, Charlotte\, NC\, 28204\, United States
CATEGORIES:Charlotte,Charlotte Cafe,On-Site
END:VEVENT
BEGIN:VEVENT
DTSTART;TZID=America/New_York:20251104T140000
DTEND;TZID=America/New_York:20251104T150000
DTSTAMP:20260420T163315
CREATED:20251030T215226Z
LAST-MODIFIED:20251030T215226Z
UID:10011518-1762264800-1762268400@promiseresourcenetwork.org
SUMMARY:African Dance
DESCRIPTION:
URL:https://promiseresourcenetwork.org/event/drum-circle-african-dance-cafe/2025-11-04/
LOCATION:Promise Resource Network\, 1401 E 7th Street\, Charlotte\, NC\, 28204\, United States
CATEGORIES:Charlotte,Charlotte Cafe,Large Classroom,On-Site
END:VEVENT
BEGIN:VEVENT
DTSTART;TZID=America/New_York:20251106T130000
DTEND;TZID=America/New_York:20251106T140000
DTSTAMP:20260420T163315
CREATED:20251030T215007Z
LAST-MODIFIED:20251030T215007Z
UID:10011505-1762434000-1762437600@promiseresourcenetwork.org
SUMMARY:Recovery Cafe/Coffee Hour
DESCRIPTION:
URL:https://promiseresourcenetwork.org/event/recovery-cafe-coffee-hour/2025-11-06/
LOCATION:Promise Resource Network\, 1401 E 7th Street\, Charlotte\, NC\, 28204\, United States
CATEGORIES:Charlotte,Charlotte Cafe
END:VEVENT
BEGIN:VEVENT
DTSTART;TZID=America/New_York:20251106T133000
DTEND;TZID=America/New_York:20251106T140000
DTSTAMP:20260420T163315
CREATED:20251030T215207Z
LAST-MODIFIED:20251030T215207Z
UID:10011512-1762435800-1762437600@promiseresourcenetwork.org
SUMMARY:Coffee Hour/Milieu
DESCRIPTION:
URL:https://promiseresourcenetwork.org/event/coffee-hour-milieu/2025-11-06/
LOCATION:Promise Resource Network\, 1401 E 7th Street\, Charlotte\, NC\, 28204\, United States
CATEGORIES:Charlotte,Charlotte Cafe
END:VEVENT
BEGIN:VEVENT
DTSTART;TZID=America/New_York:20251106T140000
DTEND;TZID=America/New_York:20251106T150000
DTSTAMP:20260420T163315
CREATED:20251030T220018Z
LAST-MODIFIED:20251030T220018Z
UID:10011527-1762437600-1762441200@promiseresourcenetwork.org
SUMMARY:Coping Skills
DESCRIPTION:
URL:https://promiseresourcenetwork.org/event/coping-skills-2-copy/2025-11-06/
LOCATION:Promise Resource Network\, 1401 E 7th Street\, Charlotte\, NC\, 28204\, United States
CATEGORIES:Charlotte,Charlotte Cafe,On-Site
END:VEVENT
BEGIN:VEVENT
DTSTART;TZID=America/New_York:20251106T144500
DTEND;TZID=America/New_York:20251106T154500
DTSTAMP:20260420T163315
CREATED:20251030T214450Z
LAST-MODIFIED:20251030T214450Z
UID:10011495-1762440300-1762443900@promiseresourcenetwork.org
SUMMARY:Circle
DESCRIPTION:
URL:https://promiseresourcenetwork.org/event/circle/2025-11-06/
LOCATION:Promise Resource Network\, 1401 E 7th Street\, Charlotte\, NC\, 28204\, United States
CATEGORIES:Charlotte,Charlotte Cafe,On-Site
END:VEVENT
BEGIN:VEVENT
DTSTART;TZID=America/New_York:20251107T110000
DTEND;TZID=America/New_York:20251107T120000
DTSTAMP:20260420T163315
CREATED:20251027T201954Z
LAST-MODIFIED:20251027T201954Z
UID:10011472-1762513200-1762516800@promiseresourcenetwork.org
SUMMARY:CAFE BUS STOP
DESCRIPTION:
URL:https://promiseresourcenetwork.org/event/cafe-bus-stop/2025-11-07/
LOCATION:Promise Resource Network\, 1401 E 7th Street\, Charlotte\, NC\, 28204\, United States
CATEGORIES:Charlotte,Charlotte Cafe,Charlotte Hub,On-Site
END:VEVENT
BEGIN:VEVENT
DTSTART;TZID=America/New_York:20251110T140000
DTEND;TZID=America/New_York:20251110T150000
DTSTAMP:20260420T163315
CREATED:20251030T214450Z
LAST-MODIFIED:20251030T214450Z
UID:10011496-1762783200-1762786800@promiseresourcenetwork.org
SUMMARY:Circle
DESCRIPTION:
URL:https://promiseresourcenetwork.org/event/circle/2025-11-10/
LOCATION:Promise Resource Network\, 1401 E 7th Street\, Charlotte\, NC\, 28204\, United States
CATEGORIES:Charlotte,Charlotte Cafe,On-Site
END:VEVENT
BEGIN:VEVENT
DTSTART;TZID=America/New_York:20251111T130000
DTEND;TZID=America/New_York:20251111T140000
DTSTAMP:20260420T163315
CREATED:20251030T215007Z
LAST-MODIFIED:20251030T215007Z
UID:10011506-1762866000-1762869600@promiseresourcenetwork.org
SUMMARY:Recovery Cafe/Coffee Hour
DESCRIPTION:
URL:https://promiseresourcenetwork.org/event/recovery-cafe-coffee-hour/2025-11-11/
LOCATION:Promise Resource Network\, 1401 E 7th Street\, Charlotte\, NC\, 28204\, United States
CATEGORIES:Charlotte,Charlotte Cafe
END:VEVENT
BEGIN:VEVENT
DTSTART;TZID=America/New_York:20251111T133000
DTEND;TZID=America/New_York:20251111T140000
DTSTAMP:20260420T163315
CREATED:20251030T215207Z
LAST-MODIFIED:20251030T215207Z
UID:10011513-1762867800-1762869600@promiseresourcenetwork.org
SUMMARY:Coffee Hour/Milieu
DESCRIPTION:
URL:https://promiseresourcenetwork.org/event/coffee-hour-milieu/2025-11-11/
LOCATION:Promise Resource Network\, 1401 E 7th Street\, Charlotte\, NC\, 28204\, United States
CATEGORIES:Charlotte,Charlotte Cafe
END:VEVENT
BEGIN:VEVENT
DTSTART;TZID=America/New_York:20251111T140000
DTEND;TZID=America/New_York:20251111T150000
DTSTAMP:20260420T163315
CREATED:20251030T214450Z
LAST-MODIFIED:20251030T214450Z
UID:10011497-1762869600-1762873200@promiseresourcenetwork.org
SUMMARY:Circle
DESCRIPTION:
URL:https://promiseresourcenetwork.org/event/circle/2025-11-11/
LOCATION:Promise Resource Network\, 1401 E 7th Street\, Charlotte\, NC\, 28204\, United States
CATEGORIES:Charlotte,Charlotte Cafe,On-Site
END:VEVENT
BEGIN:VEVENT
DTSTART;TZID=America/New_York:20251111T140000
DTEND;TZID=America/New_York:20251111T150000
DTSTAMP:20260420T163315
CREATED:20251030T215226Z
LAST-MODIFIED:20251030T215226Z
UID:10011519-1762869600-1762873200@promiseresourcenetwork.org
SUMMARY:African Dance
DESCRIPTION:
URL:https://promiseresourcenetwork.org/event/drum-circle-african-dance-cafe/2025-11-11/
LOCATION:Promise Resource Network\, 1401 E 7th Street\, Charlotte\, NC\, 28204\, United States
CATEGORIES:Charlotte,Charlotte Cafe,Large Classroom,On-Site
END:VEVENT
BEGIN:VEVENT
DTSTART;TZID=America/New_York:20251113T130000
DTEND;TZID=America/New_York:20251113T140000
DTSTAMP:20260420T163315
CREATED:20251030T215007Z
LAST-MODIFIED:20251030T215007Z
UID:10011507-1763038800-1763042400@promiseresourcenetwork.org
SUMMARY:Recovery Cafe/Coffee Hour
DESCRIPTION:
URL:https://promiseresourcenetwork.org/event/recovery-cafe-coffee-hour/2025-11-13/
LOCATION:Promise Resource Network\, 1401 E 7th Street\, Charlotte\, NC\, 28204\, United States
CATEGORIES:Charlotte,Charlotte Cafe
END:VEVENT
BEGIN:VEVENT
DTSTART;TZID=America/New_York:20251113T133000
DTEND;TZID=America/New_York:20251113T140000
DTSTAMP:20260420T163315
CREATED:20251030T215207Z
LAST-MODIFIED:20251030T215207Z
UID:10011514-1763040600-1763042400@promiseresourcenetwork.org
SUMMARY:Coffee Hour/Milieu
DESCRIPTION:
URL:https://promiseresourcenetwork.org/event/coffee-hour-milieu/2025-11-13/
LOCATION:Promise Resource Network\, 1401 E 7th Street\, Charlotte\, NC\, 28204\, United States
CATEGORIES:Charlotte,Charlotte Cafe
END:VEVENT
BEGIN:VEVENT
DTSTART;TZID=America/New_York:20251113T140000
DTEND;TZID=America/New_York:20251113T150000
DTSTAMP:20260420T163315
CREATED:20251030T220018Z
LAST-MODIFIED:20251030T220018Z
UID:10011528-1763042400-1763046000@promiseresourcenetwork.org
SUMMARY:Coping Skills
DESCRIPTION:
URL:https://promiseresourcenetwork.org/event/coping-skills-2-copy/2025-11-13/
LOCATION:Promise Resource Network\, 1401 E 7th Street\, Charlotte\, NC\, 28204\, United States
CATEGORIES:Charlotte,Charlotte Cafe,On-Site
END:VEVENT
BEGIN:VEVENT
DTSTART;TZID=America/New_York:20251113T144500
DTEND;TZID=America/New_York:20251113T154500
DTSTAMP:20260420T163315
CREATED:20251030T214450Z
LAST-MODIFIED:20251030T214450Z
UID:10011498-1763045100-1763048700@promiseresourcenetwork.org
SUMMARY:Circle
DESCRIPTION:
URL:https://promiseresourcenetwork.org/event/circle/2025-11-13/
LOCATION:Promise Resource Network\, 1401 E 7th Street\, Charlotte\, NC\, 28204\, United States
CATEGORIES:Charlotte,Charlotte Cafe,On-Site
END:VEVENT
BEGIN:VEVENT
DTSTART;TZID=America/New_York:20251114T110000
DTEND;TZID=America/New_York:20251114T120000
DTSTAMP:20260420T163315
CREATED:20251027T201954Z
LAST-MODIFIED:20251027T201954Z
UID:10011473-1763118000-1763121600@promiseresourcenetwork.org
SUMMARY:CAFE BUS STOP
DESCRIPTION:
URL:https://promiseresourcenetwork.org/event/cafe-bus-stop/2025-11-14/
LOCATION:Promise Resource Network\, 1401 E 7th Street\, Charlotte\, NC\, 28204\, United States
CATEGORIES:Charlotte,Charlotte Cafe,Charlotte Hub,On-Site
END:VEVENT
BEGIN:VEVENT
DTSTART;TZID=America/New_York:20251117T140000
DTEND;TZID=America/New_York:20251117T150000
DTSTAMP:20260420T163315
CREATED:20251030T214450Z
LAST-MODIFIED:20251030T214450Z
UID:10011499-1763388000-1763391600@promiseresourcenetwork.org
SUMMARY:Circle
DESCRIPTION:
URL:https://promiseresourcenetwork.org/event/circle/2025-11-17/
LOCATION:Promise Resource Network\, 1401 E 7th Street\, Charlotte\, NC\, 28204\, United States
CATEGORIES:Charlotte,Charlotte Cafe,On-Site
END:VEVENT
BEGIN:VEVENT
DTSTART;TZID=America/New_York:20251118T130000
DTEND;TZID=America/New_York:20251118T140000
DTSTAMP:20260420T163315
CREATED:20251030T215007Z
LAST-MODIFIED:20251030T215007Z
UID:10011508-1763470800-1763474400@promiseresourcenetwork.org
SUMMARY:Recovery Cafe/Coffee Hour
DESCRIPTION:
URL:https://promiseresourcenetwork.org/event/recovery-cafe-coffee-hour/2025-11-18/
LOCATION:Promise Resource Network\, 1401 E 7th Street\, Charlotte\, NC\, 28204\, United States
CATEGORIES:Charlotte,Charlotte Cafe
END:VEVENT
BEGIN:VEVENT
DTSTART;TZID=America/New_York:20251118T133000
DTEND;TZID=America/New_York:20251118T140000
DTSTAMP:20260420T163315
CREATED:20251030T215207Z
LAST-MODIFIED:20251030T215207Z
UID:10011515-1763472600-1763474400@promiseresourcenetwork.org
SUMMARY:Coffee Hour/Milieu
DESCRIPTION:
URL:https://promiseresourcenetwork.org/event/coffee-hour-milieu/2025-11-18/
LOCATION:Promise Resource Network\, 1401 E 7th Street\, Charlotte\, NC\, 28204\, United States
CATEGORIES:Charlotte,Charlotte Cafe
END:VEVENT
BEGIN:VEVENT
DTSTART;TZID=America/New_York:20251118T140000
DTEND;TZID=America/New_York:20251118T150000
DTSTAMP:20260420T163315
CREATED:20251030T214450Z
LAST-MODIFIED:20251030T214450Z
UID:10011500-1763474400-1763478000@promiseresourcenetwork.org
SUMMARY:Circle
DESCRIPTION:
URL:https://promiseresourcenetwork.org/event/circle/2025-11-18/
LOCATION:Promise Resource Network\, 1401 E 7th Street\, Charlotte\, NC\, 28204\, United States
CATEGORIES:Charlotte,Charlotte Cafe,On-Site
END:VEVENT
BEGIN:VEVENT
DTSTART;TZID=America/New_York:20251118T140000
DTEND;TZID=America/New_York:20251118T150000
DTSTAMP:20260420T163315
CREATED:20251030T215226Z
LAST-MODIFIED:20251030T215226Z
UID:10011520-1763474400-1763478000@promiseresourcenetwork.org
SUMMARY:African Dance
DESCRIPTION:
URL:https://promiseresourcenetwork.org/event/drum-circle-african-dance-cafe/2025-11-18/
LOCATION:Promise Resource Network\, 1401 E 7th Street\, Charlotte\, NC\, 28204\, United States
CATEGORIES:Charlotte,Charlotte Cafe,Large Classroom,On-Site
END:VEVENT
BEGIN:VEVENT
DTSTART;TZID=America/New_York:20251120T130000
DTEND;TZID=America/New_York:20251120T140000
DTSTAMP:20260420T163315
CREATED:20251030T215007Z
LAST-MODIFIED:20251030T215007Z
UID:10011509-1763643600-1763647200@promiseresourcenetwork.org
SUMMARY:Recovery Cafe/Coffee Hour
DESCRIPTION:
URL:https://promiseresourcenetwork.org/event/recovery-cafe-coffee-hour/2025-11-20/
LOCATION:Promise Resource Network\, 1401 E 7th Street\, Charlotte\, NC\, 28204\, United States
CATEGORIES:Charlotte,Charlotte Cafe
END:VEVENT
BEGIN:VEVENT
DTSTART;TZID=America/New_York:20251120T133000
DTEND;TZID=America/New_York:20251120T140000
DTSTAMP:20260420T163315
CREATED:20251030T215207Z
LAST-MODIFIED:20251030T215207Z
UID:10011516-1763645400-1763647200@promiseresourcenetwork.org
SUMMARY:Coffee Hour/Milieu
DESCRIPTION:
URL:https://promiseresourcenetwork.org/event/coffee-hour-milieu/2025-11-20/
LOCATION:Promise Resource Network\, 1401 E 7th Street\, Charlotte\, NC\, 28204\, United States
CATEGORIES:Charlotte,Charlotte Cafe
END:VEVENT
BEGIN:VEVENT
DTSTART;TZID=America/New_York:20251120T140000
DTEND;TZID=America/New_York:20251120T150000
DTSTAMP:20260420T163315
CREATED:20251030T220018Z
LAST-MODIFIED:20251030T220018Z
UID:10011529-1763647200-1763650800@promiseresourcenetwork.org
SUMMARY:Coping Skills
DESCRIPTION:
URL:https://promiseresourcenetwork.org/event/coping-skills-2-copy/2025-11-20/
LOCATION:Promise Resource Network\, 1401 E 7th Street\, Charlotte\, NC\, 28204\, United States
CATEGORIES:Charlotte,Charlotte Cafe,On-Site
END:VEVENT
BEGIN:VEVENT
DTSTART;TZID=America/New_York:20251120T144500
DTEND;TZID=America/New_York:20251120T154500
DTSTAMP:20260420T163315
CREATED:20251030T214450Z
LAST-MODIFIED:20251030T214450Z
UID:10011501-1763649900-1763653500@promiseresourcenetwork.org
SUMMARY:Circle
DESCRIPTION:
URL:https://promiseresourcenetwork.org/event/circle/2025-11-20/
LOCATION:Promise Resource Network\, 1401 E 7th Street\, Charlotte\, NC\, 28204\, United States
CATEGORIES:Charlotte,Charlotte Cafe,On-Site
END:VEVENT
BEGIN:VEVENT
DTSTART;TZID=America/New_York:20251121T110000
DTEND;TZID=America/New_York:20251121T120000
DTSTAMP:20260420T163315
CREATED:20251027T201954Z
LAST-MODIFIED:20251027T201954Z
UID:10011474-1763722800-1763726400@promiseresourcenetwork.org
SUMMARY:CAFE BUS STOP
DESCRIPTION:
URL:https://promiseresourcenetwork.org/event/cafe-bus-stop/2025-11-21/
LOCATION:Promise Resource Network\, 1401 E 7th Street\, Charlotte\, NC\, 28204\, United States
CATEGORIES:Charlotte,Charlotte Cafe,Charlotte Hub,On-Site
END:VEVENT
END:VCALENDAR