BEGIN:VCALENDAR
VERSION:2.0
PRODID:-//Promise Resource Network - ECPv6.15.20//NONSGML v1.0//EN
CALSCALE:GREGORIAN
METHOD:PUBLISH
X-ORIGINAL-URL:https://promiseresourcenetwork.org
X-WR-CALDESC:Events for Promise Resource Network
REFRESH-INTERVAL;VALUE=DURATION:PT1H
X-Robots-Tag:noindex
X-PUBLISHED-TTL:PT1H
BEGIN:VTIMEZONE
TZID:America/New_York
BEGIN:DAYLIGHT
TZOFFSETFROM:-0500
TZOFFSETTO:-0400
TZNAME:EDT
DTSTART:20250309T070000
END:DAYLIGHT
BEGIN:STANDARD
TZOFFSETFROM:-0400
TZOFFSETTO:-0500
TZNAME:EST
DTSTART:20251102T060000
END:STANDARD
BEGIN:DAYLIGHT
TZOFFSETFROM:-0500
TZOFFSETTO:-0400
TZNAME:EDT
DTSTART:20260308T070000
END:DAYLIGHT
BEGIN:STANDARD
TZOFFSETFROM:-0400
TZOFFSETTO:-0500
TZNAME:EST
DTSTART:20261101T060000
END:STANDARD
BEGIN:DAYLIGHT
TZOFFSETFROM:-0500
TZOFFSETTO:-0400
TZNAME:EDT
DTSTART:20270314T070000
END:DAYLIGHT
BEGIN:STANDARD
TZOFFSETFROM:-0400
TZOFFSETTO:-0500
TZNAME:EST
DTSTART:20271107T060000
END:STANDARD
END:VTIMEZONE
BEGIN:VEVENT
DTSTART;TZID=America/New_York:20260311T143000
DTEND;TZID=America/New_York:20260311T153000
DTSTAMP:20260423T074505
CREATED:20260228T200437Z
LAST-MODIFIED:20260228T200437Z
UID:10012530-1773239400-1773243000@promiseresourcenetwork.org
SUMMARY:SMART Recovery
DESCRIPTION:SMART Recovery is a science-based recovery group that empowers individuals to overcome addictive behaviors through self-directed change. Using tools grounded in cognitive-behavioral therapy\, participants build motivation\, manage urges\, develop healthy coping strategies\, and create balanced lives—one SMART step at a time.
URL:https://promiseresourcenetwork.org/event/smart-recovery-7/2026-03-11/
LOCATION:Promise Resource Network\, 1401 E 7th Street\, Charlotte\, NC\, 28204\, United States
CATEGORIES:Charlotte,Charlotte Cafe,Large Classroom
END:VEVENT
BEGIN:VEVENT
DTSTART;TZID=America/New_York:20260311T140000
DTEND;TZID=America/New_York:20260311T150000
DTSTAMP:20260423T074505
CREATED:20260228T194203Z
LAST-MODIFIED:20260228T194203Z
UID:10012502-1773237600-1773241200@promiseresourcenetwork.org
SUMMARY:Circle
DESCRIPTION:
URL:https://promiseresourcenetwork.org/event/circle-2/2026-03-11/
LOCATION:Promise Resource Network\, 1401 E 7th Street\, Charlotte\, NC\, 28204\, United States
CATEGORIES:Cafe,Charlotte,Charlotte Cafe
END:VEVENT
BEGIN:VEVENT
DTSTART;TZID=America/New_York:20260311T133000
DTEND;TZID=America/New_York:20260311T143000
DTSTAMP:20260423T074505
CREATED:20260301T045845Z
LAST-MODIFIED:20260301T045845Z
UID:10012549-1773235800-1773239400@promiseresourcenetwork.org
SUMMARY:Mindful Meditation
DESCRIPTION:
URL:https://promiseresourcenetwork.org/event/mindful-meditation-3/2026-03-11/
LOCATION:Promise Resource Network\, 1401 E 7th Street\, Charlotte\, NC\, 28204\, United States
CATEGORIES:Charlotte,Charlotte Cafe,Large Classroom
END:VEVENT
BEGIN:VEVENT
DTSTART;TZID=America/New_York:20260311T133000
DTEND;TZID=America/New_York:20260311T143000
DTSTAMP:20260423T074505
CREATED:20260301T044115Z
LAST-MODIFIED:20260301T044115Z
UID:10012545-1773235800-1773239400@promiseresourcenetwork.org
SUMMARY:Expression Connection
DESCRIPTION:Expression Connection is a recovery-focused class that uses creative expression—like writing\, art\, music\, and movement—as tools for healing\, self-discovery\, and connection.
URL:https://promiseresourcenetwork.org/event/expression-connection/2026-03-11/
LOCATION:Promise Resource Network\, 1401 E 7th Street\, Charlotte\, NC\, 28204\, United States
CATEGORIES:Charlotte,Charlotte Cafe,Upstairs/Outside
END:VEVENT
BEGIN:VEVENT
DTSTART;TZID=America/New_York:20260311T130000
DTEND;TZID=America/New_York:20260311T133000
DTSTAMP:20260423T074505
CREATED:20260228T192317Z
LAST-MODIFIED:20260228T192317Z
UID:10012476-1773234000-1773235800@promiseresourcenetwork.org
SUMMARY:Milieu
DESCRIPTION:
URL:https://promiseresourcenetwork.org/event/milieu-2/2026-03-11/
LOCATION:Promise Resource Network\, 1401 E 7th Street\, Charlotte\, NC\, 28204\, United States
CATEGORIES:Charlotte,Charlotte Cafe,Large Classroom,On-Site
END:VEVENT
BEGIN:VEVENT
DTSTART;TZID=America/New_York:20260311T120000
DTEND;TZID=America/New_York:20260311T130000
DTSTAMP:20260423T074505
CREATED:20251230T202314Z
LAST-MODIFIED:20251230T202314Z
UID:10012045-1773230400-1773234000@promiseresourcenetwork.org
SUMMARY:HUB CLOSED
DESCRIPTION:
URL:https://promiseresourcenetwork.org/event/hub-closed-6/2026-03-11/
LOCATION:Promise Resource Network\, 1401 E 7th Street\, Charlotte\, NC\, 28204\, United States
CATEGORIES:Charlotte,Charlotte Cafe,Closed
END:VEVENT
BEGIN:VEVENT
DTSTART;TZID=America/New_York:20260310T143000
DTEND;TZID=America/New_York:20260310T153000
DTSTAMP:20260423T074505
CREATED:20260228T200437Z
LAST-MODIFIED:20260228T200437Z
UID:10012529-1773153000-1773156600@promiseresourcenetwork.org
SUMMARY:SMART Recovery
DESCRIPTION:SMART Recovery is a science-based recovery group that empowers individuals to overcome addictive behaviors through self-directed change. Using tools grounded in cognitive-behavioral therapy\, participants build motivation\, manage urges\, develop healthy coping strategies\, and create balanced lives—one SMART step at a time.
URL:https://promiseresourcenetwork.org/event/smart-recovery-7/2026-03-10/
LOCATION:Promise Resource Network\, 1401 E 7th Street\, Charlotte\, NC\, 28204\, United States
CATEGORIES:Charlotte,Charlotte Cafe,Large Classroom
END:VEVENT
BEGIN:VEVENT
DTSTART;TZID=America/New_York:20260310T140000
DTEND;TZID=America/New_York:20260310T150000
DTSTAMP:20260423T074505
CREATED:20260228T194203Z
LAST-MODIFIED:20260228T194203Z
UID:10012501-1773151200-1773154800@promiseresourcenetwork.org
SUMMARY:Circle
DESCRIPTION:
URL:https://promiseresourcenetwork.org/event/circle-2/2026-03-10/
LOCATION:Promise Resource Network\, 1401 E 7th Street\, Charlotte\, NC\, 28204\, United States
CATEGORIES:Cafe,Charlotte,Charlotte Cafe
END:VEVENT
BEGIN:VEVENT
DTSTART;TZID=America/New_York:20260310T133000
DTEND;TZID=America/New_York:20260310T143000
DTSTAMP:20260423T074505
CREATED:20260301T042134Z
LAST-MODIFIED:20260301T042134Z
UID:10012540-1773149400-1773153000@promiseresourcenetwork.org
SUMMARY:Sharing Your Story
DESCRIPTION:
URL:https://promiseresourcenetwork.org/event/sharing-your-story/2026-03-10/
LOCATION:Promise Resource Network\, 1401 E 7th Street\, Charlotte\, NC\, 28204\, United States
CATEGORIES:Charlotte,Charlotte Cafe,Large Classroom
END:VEVENT
BEGIN:VEVENT
DTSTART;TZID=America/New_York:20260310T133000
DTEND;TZID=America/New_York:20260310T143000
DTSTAMP:20260423T074505
CREATED:20260228T195211Z
LAST-MODIFIED:20260228T195211Z
UID:10012520-1773149400-1773153000@promiseresourcenetwork.org
SUMMARY:Coffee Hour
DESCRIPTION:
URL:https://promiseresourcenetwork.org/event/coffee-hour/2026-03-10/
LOCATION:Promise Resource Network\, 1401 E 7th Street\, Charlotte\, NC\, 28204\, United States
CATEGORIES:Cafe,Charlotte,Charlotte Cafe
END:VEVENT
BEGIN:VEVENT
DTSTART;TZID=America/New_York:20260310T130000
DTEND;TZID=America/New_York:20260310T133000
DTSTAMP:20260423T074505
CREATED:20260228T192317Z
LAST-MODIFIED:20260228T192317Z
UID:10012475-1773147600-1773149400@promiseresourcenetwork.org
SUMMARY:Milieu
DESCRIPTION:
URL:https://promiseresourcenetwork.org/event/milieu-2/2026-03-10/
LOCATION:Promise Resource Network\, 1401 E 7th Street\, Charlotte\, NC\, 28204\, United States
CATEGORIES:Charlotte,Charlotte Cafe,Large Classroom,On-Site
END:VEVENT
BEGIN:VEVENT
DTSTART;TZID=America/New_York:20260310T120000
DTEND;TZID=America/New_York:20260310T130000
DTSTAMP:20260423T074505
CREATED:20251230T202314Z
LAST-MODIFIED:20251230T202314Z
UID:10012044-1773144000-1773147600@promiseresourcenetwork.org
SUMMARY:HUB CLOSED
DESCRIPTION:
URL:https://promiseresourcenetwork.org/event/hub-closed-6/2026-03-10/
LOCATION:Promise Resource Network\, 1401 E 7th Street\, Charlotte\, NC\, 28204\, United States
CATEGORIES:Charlotte,Charlotte Cafe,Closed
END:VEVENT
BEGIN:VEVENT
DTSTART;TZID=America/New_York:20260309T143000
DTEND;TZID=America/New_York:20260309T153000
DTSTAMP:20260423T074505
CREATED:20260301T052327Z
LAST-MODIFIED:20260301T052327Z
UID:10012559-1773066600-1773070200@promiseresourcenetwork.org
SUMMARY:Meet Me At The Movies
DESCRIPTION:
URL:https://promiseresourcenetwork.org/event/meet-me-at-the-movies/2026-03-09/
LOCATION:Promise Resource Network\, 1401 E 7th Street\, Charlotte\, NC\, 28204\, United States
CATEGORIES:Charlotte,Charlotte Cafe,Large Classroom
END:VEVENT
BEGIN:VEVENT
DTSTART;TZID=America/New_York:20260309T143000
DTEND;TZID=America/New_York:20260309T153000
DTSTAMP:20260423T074505
CREATED:20260301T052205Z
LAST-MODIFIED:20260301T052205Z
UID:10012558-1773066600-1773070200@promiseresourcenetwork.org
SUMMARY:Meet The Employer
DESCRIPTION:
URL:https://promiseresourcenetwork.org/event/meet-the-employer-4/
LOCATION:Promise Resource Network\, 1401 E 7th Street\, Charlotte\, NC\, 28204\, United States
CATEGORIES:Charlotte,Charlotte Cafe,Large Classroom
END:VEVENT
BEGIN:VEVENT
DTSTART;TZID=America/New_York:20260309T140000
DTEND;TZID=America/New_York:20260309T150000
DTSTAMP:20260423T074505
CREATED:20260228T194203Z
LAST-MODIFIED:20260228T194203Z
UID:10012500-1773064800-1773068400@promiseresourcenetwork.org
SUMMARY:Circle
DESCRIPTION:
URL:https://promiseresourcenetwork.org/event/circle-2/2026-03-09/
LOCATION:Promise Resource Network\, 1401 E 7th Street\, Charlotte\, NC\, 28204\, United States
CATEGORIES:Cafe,Charlotte,Charlotte Cafe
END:VEVENT
BEGIN:VEVENT
DTSTART;TZID=America/New_York:20260309T133000
DTEND;TZID=America/New_York:20260309T140000
DTSTAMP:20260423T074505
CREATED:20260228T193207Z
LAST-MODIFIED:20260228T193207Z
UID:10012492-1773063000-1773064800@promiseresourcenetwork.org
SUMMARY:Come As You Are
DESCRIPTION:
URL:https://promiseresourcenetwork.org/event/come-as-you-are-3/2026-03-09/
LOCATION:Promise Resource Network\, 1401 E 7th Street\, Charlotte\, NC\, 28204\, United States
CATEGORIES:Charlotte,Charlotte Cafe,Upstairs/Outside
END:VEVENT
BEGIN:VEVENT
DTSTART;TZID=America/New_York:20260309T130000
DTEND;TZID=America/New_York:20260309T133000
DTSTAMP:20260423T074505
CREATED:20260228T192317Z
LAST-MODIFIED:20260228T192317Z
UID:10012474-1773061200-1773063000@promiseresourcenetwork.org
SUMMARY:Milieu
DESCRIPTION:
URL:https://promiseresourcenetwork.org/event/milieu-2/2026-03-09/
LOCATION:Promise Resource Network\, 1401 E 7th Street\, Charlotte\, NC\, 28204\, United States
CATEGORIES:Charlotte,Charlotte Cafe,Large Classroom,On-Site
END:VEVENT
BEGIN:VEVENT
DTSTART;TZID=America/New_York:20260309T120000
DTEND;TZID=America/New_York:20260309T130000
DTSTAMP:20260423T074505
CREATED:20251230T202314Z
LAST-MODIFIED:20251230T202314Z
UID:10012043-1773057600-1773061200@promiseresourcenetwork.org
SUMMARY:HUB CLOSED
DESCRIPTION:
URL:https://promiseresourcenetwork.org/event/hub-closed-6/2026-03-09/
LOCATION:Promise Resource Network\, 1401 E 7th Street\, Charlotte\, NC\, 28204\, United States
CATEGORIES:Charlotte,Charlotte Cafe,Closed
END:VEVENT
BEGIN:VEVENT
DTSTART;TZID=America/New_York:20260306T000000
DTEND;TZID=America/New_York:20260306T235900
DTSTAMP:20260423T074505
CREATED:20260301T051718Z
LAST-MODIFIED:20260301T051718Z
UID:10012557-1772755200-1772841540@promiseresourcenetwork.org
SUMMARY:HUB CLOSED
DESCRIPTION:
URL:https://promiseresourcenetwork.org/event/hub-closed-3/
LOCATION:Promise Resource Network\, 1401 E 7th Street\, Charlotte\, NC\, 28204\, United States
CATEGORIES:Charlotte,Charlotte Cafe,Closed
END:VEVENT
BEGIN:VEVENT
DTSTART;TZID=America/New_York:20260305T143000
DTEND;TZID=America/New_York:20260305T153000
DTSTAMP:20260423T074505
CREATED:20260301T051224Z
LAST-MODIFIED:20260301T051224Z
UID:10012555-1772721000-1772724600@promiseresourcenetwork.org
SUMMARY:Tiny Seeds Club w/ Gavora
DESCRIPTION:
URL:https://promiseresourcenetwork.org/event/tiny-seeds-club-w-gavora/2026-03-05/
LOCATION:Promise Resource Network\, 1401 E 7th Street\, Charlotte\, NC\, 28204\, United States
CATEGORIES:Cafe,Charlotte,Charlotte Cafe
END:VEVENT
BEGIN:VEVENT
DTSTART;TZID=America/New_York:20260305T140000
DTEND;TZID=America/New_York:20260305T150000
DTSTAMP:20260423T074505
CREATED:20260301T050350Z
LAST-MODIFIED:20260301T050350Z
UID:10012552-1772719200-1772722800@promiseresourcenetwork.org
SUMMARY:Coping Skills
DESCRIPTION:
URL:https://promiseresourcenetwork.org/event/coping-skills-3/2026-03-05/
LOCATION:Promise Resource Network\, 1401 E 7th Street\, Charlotte\, NC\, 28204\, United States
CATEGORIES:Charlotte,Charlotte Cafe,Large Classroom
END:VEVENT
BEGIN:VEVENT
DTSTART;TZID=America/New_York:20260305T140000
DTEND;TZID=America/New_York:20260305T150000
DTSTAMP:20260423T074505
CREATED:20260228T194203Z
LAST-MODIFIED:20260228T194203Z
UID:10012499-1772719200-1772722800@promiseresourcenetwork.org
SUMMARY:Circle
DESCRIPTION:
URL:https://promiseresourcenetwork.org/event/circle-2/2026-03-05/
LOCATION:Promise Resource Network\, 1401 E 7th Street\, Charlotte\, NC\, 28204\, United States
CATEGORIES:Cafe,Charlotte,Charlotte Cafe
END:VEVENT
BEGIN:VEVENT
DTSTART;TZID=America/New_York:20260305T133000
DTEND;TZID=America/New_York:20260305T143000
DTSTAMP:20260423T074505
CREATED:20260228T195211Z
LAST-MODIFIED:20260228T195211Z
UID:10012519-1772717400-1772721000@promiseresourcenetwork.org
SUMMARY:Coffee Hour
DESCRIPTION:
URL:https://promiseresourcenetwork.org/event/coffee-hour/2026-03-05/
LOCATION:Promise Resource Network\, 1401 E 7th Street\, Charlotte\, NC\, 28204\, United States
CATEGORIES:Cafe,Charlotte,Charlotte Cafe
END:VEVENT
BEGIN:VEVENT
DTSTART;TZID=America/New_York:20260305T130000
DTEND;TZID=America/New_York:20260305T133000
DTSTAMP:20260423T074505
CREATED:20260228T192317Z
LAST-MODIFIED:20260228T192317Z
UID:10012473-1772715600-1772717400@promiseresourcenetwork.org
SUMMARY:Milieu
DESCRIPTION:
URL:https://promiseresourcenetwork.org/event/milieu-2/2026-03-05/
LOCATION:Promise Resource Network\, 1401 E 7th Street\, Charlotte\, NC\, 28204\, United States
CATEGORIES:Charlotte,Charlotte Cafe,Large Classroom,On-Site
END:VEVENT
BEGIN:VEVENT
DTSTART;TZID=America/New_York:20260305T120000
DTEND;TZID=America/New_York:20260305T130000
DTSTAMP:20260423T074505
CREATED:20251230T202314Z
LAST-MODIFIED:20251230T202314Z
UID:10012042-1772712000-1772715600@promiseresourcenetwork.org
SUMMARY:HUB CLOSED
DESCRIPTION:
URL:https://promiseresourcenetwork.org/event/hub-closed-6/2026-03-05/
LOCATION:Promise Resource Network\, 1401 E 7th Street\, Charlotte\, NC\, 28204\, United States
CATEGORIES:Charlotte,Charlotte Cafe,Closed
END:VEVENT
BEGIN:VEVENT
DTSTART;TZID=America/New_York:20260304T143000
DTEND;TZID=America/New_York:20260304T153000
DTSTAMP:20260423T074505
CREATED:20260228T200437Z
LAST-MODIFIED:20260228T200437Z
UID:10012528-1772634600-1772638200@promiseresourcenetwork.org
SUMMARY:SMART Recovery
DESCRIPTION:SMART Recovery is a science-based recovery group that empowers individuals to overcome addictive behaviors through self-directed change. Using tools grounded in cognitive-behavioral therapy\, participants build motivation\, manage urges\, develop healthy coping strategies\, and create balanced lives—one SMART step at a time.
URL:https://promiseresourcenetwork.org/event/smart-recovery-7/2026-03-04/
LOCATION:Promise Resource Network\, 1401 E 7th Street\, Charlotte\, NC\, 28204\, United States
CATEGORIES:Charlotte,Charlotte Cafe,Large Classroom
END:VEVENT
BEGIN:VEVENT
DTSTART;TZID=America/New_York:20260304T140000
DTEND;TZID=America/New_York:20260304T150000
DTSTAMP:20260423T074505
CREATED:20260228T194203Z
LAST-MODIFIED:20260228T194203Z
UID:10012498-1772632800-1772636400@promiseresourcenetwork.org
SUMMARY:Circle
DESCRIPTION:
URL:https://promiseresourcenetwork.org/event/circle-2/2026-03-04/
LOCATION:Promise Resource Network\, 1401 E 7th Street\, Charlotte\, NC\, 28204\, United States
CATEGORIES:Cafe,Charlotte,Charlotte Cafe
END:VEVENT
BEGIN:VEVENT
DTSTART;TZID=America/New_York:20260304T133000
DTEND;TZID=America/New_York:20260304T143000
DTSTAMP:20260423T074505
CREATED:20260301T045845Z
LAST-MODIFIED:20260301T045845Z
UID:10012548-1772631000-1772634600@promiseresourcenetwork.org
SUMMARY:Mindful Meditation
DESCRIPTION:
URL:https://promiseresourcenetwork.org/event/mindful-meditation-3/2026-03-04/
LOCATION:Promise Resource Network\, 1401 E 7th Street\, Charlotte\, NC\, 28204\, United States
CATEGORIES:Charlotte,Charlotte Cafe,Large Classroom
END:VEVENT
BEGIN:VEVENT
DTSTART;TZID=America/New_York:20260304T133000
DTEND;TZID=America/New_York:20260304T143000
DTSTAMP:20260423T074505
CREATED:20260301T044115Z
LAST-MODIFIED:20260301T044115Z
UID:10012544-1772631000-1772634600@promiseresourcenetwork.org
SUMMARY:Expression Connection
DESCRIPTION:Expression Connection is a recovery-focused class that uses creative expression—like writing\, art\, music\, and movement—as tools for healing\, self-discovery\, and connection.
URL:https://promiseresourcenetwork.org/event/expression-connection/2026-03-04/
LOCATION:Promise Resource Network\, 1401 E 7th Street\, Charlotte\, NC\, 28204\, United States
CATEGORIES:Charlotte,Charlotte Cafe,Upstairs/Outside
END:VEVENT
BEGIN:VEVENT
DTSTART;TZID=America/New_York:20260304T130000
DTEND;TZID=America/New_York:20260304T133000
DTSTAMP:20260423T074505
CREATED:20260228T192317Z
LAST-MODIFIED:20260228T192317Z
UID:10012472-1772629200-1772631000@promiseresourcenetwork.org
SUMMARY:Milieu
DESCRIPTION:
URL:https://promiseresourcenetwork.org/event/milieu-2/2026-03-04/
LOCATION:Promise Resource Network\, 1401 E 7th Street\, Charlotte\, NC\, 28204\, United States
CATEGORIES:Charlotte,Charlotte Cafe,Large Classroom,On-Site
END:VEVENT
END:VCALENDAR