BEGIN:VCALENDAR
VERSION:2.0
PRODID:-//Promise Resource Network - ECPv6.15.20//NONSGML v1.0//EN
CALSCALE:GREGORIAN
METHOD:PUBLISH
X-WR-CALNAME:Promise Resource Network
X-ORIGINAL-URL:https://promiseresourcenetwork.org
X-WR-CALDESC:Events for Promise Resource Network
REFRESH-INTERVAL;VALUE=DURATION:PT1H
X-Robots-Tag:noindex
X-PUBLISHED-TTL:PT1H
BEGIN:VTIMEZONE
TZID:America/New_York
BEGIN:DAYLIGHT
TZOFFSETFROM:-0500
TZOFFSETTO:-0400
TZNAME:EDT
DTSTART:20240310T070000
END:DAYLIGHT
BEGIN:STANDARD
TZOFFSETFROM:-0400
TZOFFSETTO:-0500
TZNAME:EST
DTSTART:20241103T060000
END:STANDARD
BEGIN:DAYLIGHT
TZOFFSETFROM:-0500
TZOFFSETTO:-0400
TZNAME:EDT
DTSTART:20250309T070000
END:DAYLIGHT
BEGIN:STANDARD
TZOFFSETFROM:-0400
TZOFFSETTO:-0500
TZNAME:EST
DTSTART:20251102T060000
END:STANDARD
BEGIN:DAYLIGHT
TZOFFSETFROM:-0500
TZOFFSETTO:-0400
TZNAME:EDT
DTSTART:20260308T070000
END:DAYLIGHT
BEGIN:STANDARD
TZOFFSETFROM:-0400
TZOFFSETTO:-0500
TZNAME:EST
DTSTART:20261101T060000
END:STANDARD
END:VTIMEZONE
BEGIN:VEVENT
DTSTART;TZID=America/New_York:20251223T140000
DTEND;TZID=America/New_York:20251223T150000
DTSTAMP:20260426T000523
CREATED:20251125T223210Z
LAST-MODIFIED:20251125T223210Z
UID:10011620-1766498400-1766502000@promiseresourcenetwork.org
SUMMARY:Circle
DESCRIPTION:
URL:https://promiseresourcenetwork.org/event/circle-dec/2025-12-23/
LOCATION:Promise Resource Network\, 1401 E 7th Street\, Charlotte\, NC\, 28204\, United States
CATEGORIES:Cafe,Charlotte,Charlotte Cafe,On-Site
END:VEVENT
BEGIN:VEVENT
DTSTART;TZID=America/New_York:20251223T140000
DTEND;TZID=America/New_York:20251223T150000
DTSTAMP:20260426T000523
CREATED:20251030T215226Z
LAST-MODIFIED:20251030T215226Z
UID:10011525-1766498400-1766502000@promiseresourcenetwork.org
SUMMARY:African Dance
DESCRIPTION:
URL:https://promiseresourcenetwork.org/event/drum-circle-african-dance-cafe/2025-12-23/
LOCATION:Promise Resource Network\, 1401 E 7th Street\, Charlotte\, NC\, 28204\, United States
CATEGORIES:Charlotte,Charlotte Cafe,Large Classroom,On-Site
END:VEVENT
BEGIN:VEVENT
DTSTART;TZID=America/New_York:20251223T133000
DTEND;TZID=America/New_York:20251223T140000
DTSTAMP:20260426T000523
CREATED:20251125T223908Z
LAST-MODIFIED:20251125T223908Z
UID:10011650-1766496600-1766498400@promiseresourcenetwork.org
SUMMARY:Coffee Hour
DESCRIPTION:
URL:https://promiseresourcenetwork.org/event/coffee-hour-2-2/2025-12-23/
LOCATION:Promise Resource Network\, 1401 E 7th Street\, Charlotte\, NC\, 28204\, United States
CATEGORIES:Cafe,Charlotte,Charlotte Cafe,On-Site
END:VEVENT
BEGIN:VEVENT
DTSTART;TZID=America/New_York:20251223T130000
DTEND;TZID=America/New_York:20251223T133000
DTSTAMP:20260426T000523
CREATED:20251125T223506Z
LAST-MODIFIED:20251125T223506Z
UID:10011642-1766494800-1766496600@promiseresourcenetwork.org
SUMMARY:Recovery Cafe Milieu
DESCRIPTION:
URL:https://promiseresourcenetwork.org/event/recovery-cafe-milieu/2025-12-23/
LOCATION:Promise Resource Network\, 1401 E 7th Street\, Charlotte\, NC\, 28204\, United States
CATEGORIES:Cafe,Charlotte,Charlotte Cafe,On-Site
END:VEVENT
BEGIN:VEVENT
DTSTART;TZID=America/New_York:20251222T140000
DTEND;TZID=America/New_York:20251222T150000
DTSTAMP:20260426T000523
CREATED:20251125T223210Z
LAST-MODIFIED:20251125T223210Z
UID:10011619-1766412000-1766415600@promiseresourcenetwork.org
SUMMARY:Circle
DESCRIPTION:
URL:https://promiseresourcenetwork.org/event/circle-dec/2025-12-22/
LOCATION:Promise Resource Network\, 1401 E 7th Street\, Charlotte\, NC\, 28204\, United States
CATEGORIES:Cafe,Charlotte,Charlotte Cafe,On-Site
END:VEVENT
BEGIN:VEVENT
DTSTART;TZID=America/New_York:20251218T150000
DTEND;TZID=America/New_York:20251218T160000
DTSTAMP:20260426T000523
CREATED:20251125T224931Z
LAST-MODIFIED:20251125T224931Z
UID:10011671-1766070000-1766073600@promiseresourcenetwork.org
SUMMARY:NMI
DESCRIPTION:
URL:https://promiseresourcenetwork.org/event/nmi/2025-12-18/
LOCATION:Promise Resource Network\, 1401 E 7th Street\, Charlotte\, NC\, 28204\, United States
CATEGORIES:Charlotte,Charlotte Cafe,Large Classroom,On-Site
END:VEVENT
BEGIN:VEVENT
DTSTART;TZID=America/New_York:20251218T140000
DTEND;TZID=America/New_York:20251218T150000
DTSTAMP:20260426T000523
CREATED:20251125T223210Z
LAST-MODIFIED:20251125T223210Z
UID:10011618-1766066400-1766070000@promiseresourcenetwork.org
SUMMARY:Circle
DESCRIPTION:
URL:https://promiseresourcenetwork.org/event/circle-dec/2025-12-18/
LOCATION:Promise Resource Network\, 1401 E 7th Street\, Charlotte\, NC\, 28204\, United States
CATEGORIES:Cafe,Charlotte,Charlotte Cafe,On-Site
END:VEVENT
BEGIN:VEVENT
DTSTART;TZID=America/New_York:20251218T133000
DTEND;TZID=America/New_York:20251218T140000
DTSTAMP:20260426T000523
CREATED:20251125T223908Z
LAST-MODIFIED:20251125T223908Z
UID:10011649-1766064600-1766066400@promiseresourcenetwork.org
SUMMARY:Coffee Hour
DESCRIPTION:
URL:https://promiseresourcenetwork.org/event/coffee-hour-2-2/2025-12-18/
LOCATION:Promise Resource Network\, 1401 E 7th Street\, Charlotte\, NC\, 28204\, United States
CATEGORIES:Cafe,Charlotte,Charlotte Cafe,On-Site
END:VEVENT
BEGIN:VEVENT
DTSTART;TZID=America/New_York:20251218T130000
DTEND;TZID=America/New_York:20251218T133000
DTSTAMP:20260426T000523
CREATED:20251125T223506Z
LAST-MODIFIED:20251125T223506Z
UID:10011641-1766062800-1766064600@promiseresourcenetwork.org
SUMMARY:Recovery Cafe Milieu
DESCRIPTION:
URL:https://promiseresourcenetwork.org/event/recovery-cafe-milieu/2025-12-18/
LOCATION:Promise Resource Network\, 1401 E 7th Street\, Charlotte\, NC\, 28204\, United States
CATEGORIES:Cafe,Charlotte,Charlotte Cafe,On-Site
END:VEVENT
BEGIN:VEVENT
DTSTART;TZID=America/New_York:20251217T140000
DTEND;TZID=America/New_York:20251217T150000
DTSTAMP:20260426T000523
CREATED:20251125T223210Z
LAST-MODIFIED:20251125T223210Z
UID:10011617-1765980000-1765983600@promiseresourcenetwork.org
SUMMARY:Circle
DESCRIPTION:
URL:https://promiseresourcenetwork.org/event/circle-dec/2025-12-17/
LOCATION:Promise Resource Network\, 1401 E 7th Street\, Charlotte\, NC\, 28204\, United States
CATEGORIES:Cafe,Charlotte,Charlotte Cafe,On-Site
END:VEVENT
BEGIN:VEVENT
DTSTART;TZID=America/New_York:20251216T140000
DTEND;TZID=America/New_York:20251216T150000
DTSTAMP:20260426T000523
CREATED:20251125T223210Z
LAST-MODIFIED:20251125T223210Z
UID:10011616-1765893600-1765897200@promiseresourcenetwork.org
SUMMARY:Circle
DESCRIPTION:
URL:https://promiseresourcenetwork.org/event/circle-dec/2025-12-16/
LOCATION:Promise Resource Network\, 1401 E 7th Street\, Charlotte\, NC\, 28204\, United States
CATEGORIES:Cafe,Charlotte,Charlotte Cafe,On-Site
END:VEVENT
BEGIN:VEVENT
DTSTART;TZID=America/New_York:20251216T140000
DTEND;TZID=America/New_York:20251216T150000
DTSTAMP:20260426T000523
CREATED:20251030T215226Z
LAST-MODIFIED:20251030T215226Z
UID:10011524-1765893600-1765897200@promiseresourcenetwork.org
SUMMARY:African Dance
DESCRIPTION:
URL:https://promiseresourcenetwork.org/event/drum-circle-african-dance-cafe/2025-12-16/
LOCATION:Promise Resource Network\, 1401 E 7th Street\, Charlotte\, NC\, 28204\, United States
CATEGORIES:Charlotte,Charlotte Cafe,Large Classroom,On-Site
END:VEVENT
BEGIN:VEVENT
DTSTART;TZID=America/New_York:20251216T133000
DTEND;TZID=America/New_York:20251216T140000
DTSTAMP:20260426T000523
CREATED:20251125T223908Z
LAST-MODIFIED:20251125T223908Z
UID:10011648-1765891800-1765893600@promiseresourcenetwork.org
SUMMARY:Coffee Hour
DESCRIPTION:
URL:https://promiseresourcenetwork.org/event/coffee-hour-2-2/2025-12-16/
LOCATION:Promise Resource Network\, 1401 E 7th Street\, Charlotte\, NC\, 28204\, United States
CATEGORIES:Cafe,Charlotte,Charlotte Cafe,On-Site
END:VEVENT
BEGIN:VEVENT
DTSTART;TZID=America/New_York:20251216T130000
DTEND;TZID=America/New_York:20251216T133000
DTSTAMP:20260426T000523
CREATED:20251125T223506Z
LAST-MODIFIED:20251125T223506Z
UID:10011640-1765890000-1765891800@promiseresourcenetwork.org
SUMMARY:Recovery Cafe Milieu
DESCRIPTION:
URL:https://promiseresourcenetwork.org/event/recovery-cafe-milieu/2025-12-16/
LOCATION:Promise Resource Network\, 1401 E 7th Street\, Charlotte\, NC\, 28204\, United States
CATEGORIES:Cafe,Charlotte,Charlotte Cafe,On-Site
END:VEVENT
BEGIN:VEVENT
DTSTART;TZID=America/New_York:20251215T140000
DTEND;TZID=America/New_York:20251215T150000
DTSTAMP:20260426T000523
CREATED:20251125T223210Z
LAST-MODIFIED:20251125T223210Z
UID:10011615-1765807200-1765810800@promiseresourcenetwork.org
SUMMARY:Circle
DESCRIPTION:
URL:https://promiseresourcenetwork.org/event/circle-dec/2025-12-15/
LOCATION:Promise Resource Network\, 1401 E 7th Street\, Charlotte\, NC\, 28204\, United States
CATEGORIES:Cafe,Charlotte,Charlotte Cafe,On-Site
END:VEVENT
BEGIN:VEVENT
DTSTART;TZID=America/New_York:20251211T140000
DTEND;TZID=America/New_York:20251211T150000
DTSTAMP:20260426T000523
CREATED:20251125T224646Z
LAST-MODIFIED:20251125T224646Z
UID:10011669-1765461600-1765465200@promiseresourcenetwork.org
SUMMARY:Coping Skills
DESCRIPTION:
URL:https://promiseresourcenetwork.org/event/coping-skills-cafe-dec/2025-12-11/
LOCATION:Promise Resource Network\, 1401 E 7th Street\, Charlotte\, NC\, 28204\, United States
CATEGORIES:Charlotte,Charlotte Cafe,Large Classroom,On-Site
END:VEVENT
BEGIN:VEVENT
DTSTART;TZID=America/New_York:20251211T140000
DTEND;TZID=America/New_York:20251211T150000
DTSTAMP:20260426T000523
CREATED:20251125T223210Z
LAST-MODIFIED:20251125T223210Z
UID:10011614-1765461600-1765465200@promiseresourcenetwork.org
SUMMARY:Circle
DESCRIPTION:
URL:https://promiseresourcenetwork.org/event/circle-dec/2025-12-11/
LOCATION:Promise Resource Network\, 1401 E 7th Street\, Charlotte\, NC\, 28204\, United States
CATEGORIES:Cafe,Charlotte,Charlotte Cafe,On-Site
END:VEVENT
BEGIN:VEVENT
DTSTART;TZID=America/New_York:20251211T133000
DTEND;TZID=America/New_York:20251211T140000
DTSTAMP:20260426T000523
CREATED:20251125T223908Z
LAST-MODIFIED:20251125T223908Z
UID:10011647-1765459800-1765461600@promiseresourcenetwork.org
SUMMARY:Coffee Hour
DESCRIPTION:
URL:https://promiseresourcenetwork.org/event/coffee-hour-2-2/2025-12-11/
LOCATION:Promise Resource Network\, 1401 E 7th Street\, Charlotte\, NC\, 28204\, United States
CATEGORIES:Cafe,Charlotte,Charlotte Cafe,On-Site
END:VEVENT
BEGIN:VEVENT
DTSTART;TZID=America/New_York:20251211T130000
DTEND;TZID=America/New_York:20251211T133000
DTSTAMP:20260426T000523
CREATED:20251125T223506Z
LAST-MODIFIED:20251125T223506Z
UID:10011639-1765458000-1765459800@promiseresourcenetwork.org
SUMMARY:Recovery Cafe Milieu
DESCRIPTION:
URL:https://promiseresourcenetwork.org/event/recovery-cafe-milieu/2025-12-11/
LOCATION:Promise Resource Network\, 1401 E 7th Street\, Charlotte\, NC\, 28204\, United States
CATEGORIES:Cafe,Charlotte,Charlotte Cafe,On-Site
END:VEVENT
BEGIN:VEVENT
DTSTART;TZID=America/New_York:20251210T140000
DTEND;TZID=America/New_York:20251210T150000
DTSTAMP:20260426T000523
CREATED:20251125T223210Z
LAST-MODIFIED:20251125T223210Z
UID:10011613-1765375200-1765378800@promiseresourcenetwork.org
SUMMARY:Circle
DESCRIPTION:
URL:https://promiseresourcenetwork.org/event/circle-dec/2025-12-10/
LOCATION:Promise Resource Network\, 1401 E 7th Street\, Charlotte\, NC\, 28204\, United States
CATEGORIES:Cafe,Charlotte,Charlotte Cafe,On-Site
END:VEVENT
BEGIN:VEVENT
DTSTART;TZID=America/New_York:20251209T140000
DTEND;TZID=America/New_York:20251209T150000
DTSTAMP:20260426T000523
CREATED:20251125T223210Z
LAST-MODIFIED:20251125T223210Z
UID:10011612-1765288800-1765292400@promiseresourcenetwork.org
SUMMARY:Circle
DESCRIPTION:
URL:https://promiseresourcenetwork.org/event/circle-dec/2025-12-09/
LOCATION:Promise Resource Network\, 1401 E 7th Street\, Charlotte\, NC\, 28204\, United States
CATEGORIES:Cafe,Charlotte,Charlotte Cafe,On-Site
END:VEVENT
BEGIN:VEVENT
DTSTART;TZID=America/New_York:20251209T140000
DTEND;TZID=America/New_York:20251209T150000
DTSTAMP:20260426T000523
CREATED:20251030T215226Z
LAST-MODIFIED:20251030T215226Z
UID:10011523-1765288800-1765292400@promiseresourcenetwork.org
SUMMARY:African Dance
DESCRIPTION:
URL:https://promiseresourcenetwork.org/event/drum-circle-african-dance-cafe/2025-12-09/
LOCATION:Promise Resource Network\, 1401 E 7th Street\, Charlotte\, NC\, 28204\, United States
CATEGORIES:Charlotte,Charlotte Cafe,Large Classroom,On-Site
END:VEVENT
BEGIN:VEVENT
DTSTART;TZID=America/New_York:20251209T133000
DTEND;TZID=America/New_York:20251209T140000
DTSTAMP:20260426T000523
CREATED:20251125T223908Z
LAST-MODIFIED:20251125T223908Z
UID:10011646-1765287000-1765288800@promiseresourcenetwork.org
SUMMARY:Coffee Hour
DESCRIPTION:
URL:https://promiseresourcenetwork.org/event/coffee-hour-2-2/2025-12-09/
LOCATION:Promise Resource Network\, 1401 E 7th Street\, Charlotte\, NC\, 28204\, United States
CATEGORIES:Cafe,Charlotte,Charlotte Cafe,On-Site
END:VEVENT
BEGIN:VEVENT
DTSTART;TZID=America/New_York:20251209T130000
DTEND;TZID=America/New_York:20251209T133000
DTSTAMP:20260426T000523
CREATED:20251125T223506Z
LAST-MODIFIED:20251125T223506Z
UID:10011638-1765285200-1765287000@promiseresourcenetwork.org
SUMMARY:Recovery Cafe Milieu
DESCRIPTION:
URL:https://promiseresourcenetwork.org/event/recovery-cafe-milieu/2025-12-09/
LOCATION:Promise Resource Network\, 1401 E 7th Street\, Charlotte\, NC\, 28204\, United States
CATEGORIES:Cafe,Charlotte,Charlotte Cafe,On-Site
END:VEVENT
BEGIN:VEVENT
DTSTART;TZID=America/New_York:20251208T140000
DTEND;TZID=America/New_York:20251208T150000
DTSTAMP:20260426T000523
CREATED:20251125T223210Z
LAST-MODIFIED:20251125T223210Z
UID:10011611-1765202400-1765206000@promiseresourcenetwork.org
SUMMARY:Circle
DESCRIPTION:
URL:https://promiseresourcenetwork.org/event/circle-dec/2025-12-08/
LOCATION:Promise Resource Network\, 1401 E 7th Street\, Charlotte\, NC\, 28204\, United States
CATEGORIES:Cafe,Charlotte,Charlotte Cafe,On-Site
END:VEVENT
BEGIN:VEVENT
DTSTART;TZID=America/New_York:20251204T150000
DTEND;TZID=America/New_York:20251204T160000
DTSTAMP:20260426T000523
CREATED:20251125T224931Z
LAST-MODIFIED:20251125T224931Z
UID:10011670-1764860400-1764864000@promiseresourcenetwork.org
SUMMARY:NMI
DESCRIPTION:
URL:https://promiseresourcenetwork.org/event/nmi/2025-12-04/
LOCATION:Promise Resource Network\, 1401 E 7th Street\, Charlotte\, NC\, 28204\, United States
CATEGORIES:Charlotte,Charlotte Cafe,Large Classroom,On-Site
END:VEVENT
BEGIN:VEVENT
DTSTART;TZID=America/New_York:20251204T140000
DTEND;TZID=America/New_York:20251204T150000
DTSTAMP:20260426T000523
CREATED:20251125T224646Z
LAST-MODIFIED:20251125T224646Z
UID:10011668-1764856800-1764860400@promiseresourcenetwork.org
SUMMARY:Coping Skills
DESCRIPTION:
URL:https://promiseresourcenetwork.org/event/coping-skills-cafe-dec/2025-12-04/
LOCATION:Promise Resource Network\, 1401 E 7th Street\, Charlotte\, NC\, 28204\, United States
CATEGORIES:Charlotte,Charlotte Cafe,Large Classroom,On-Site
END:VEVENT
BEGIN:VEVENT
DTSTART;TZID=America/New_York:20251204T140000
DTEND;TZID=America/New_York:20251204T150000
DTSTAMP:20260426T000523
CREATED:20251125T223210Z
LAST-MODIFIED:20251125T223210Z
UID:10011610-1764856800-1764860400@promiseresourcenetwork.org
SUMMARY:Circle
DESCRIPTION:
URL:https://promiseresourcenetwork.org/event/circle-dec/2025-12-04/
LOCATION:Promise Resource Network\, 1401 E 7th Street\, Charlotte\, NC\, 28204\, United States
CATEGORIES:Cafe,Charlotte,Charlotte Cafe,On-Site
END:VEVENT
BEGIN:VEVENT
DTSTART;TZID=America/New_York:20251204T133000
DTEND;TZID=America/New_York:20251204T140000
DTSTAMP:20260426T000523
CREATED:20251125T223908Z
LAST-MODIFIED:20251125T223908Z
UID:10011645-1764855000-1764856800@promiseresourcenetwork.org
SUMMARY:Coffee Hour
DESCRIPTION:
URL:https://promiseresourcenetwork.org/event/coffee-hour-2-2/2025-12-04/
LOCATION:Promise Resource Network\, 1401 E 7th Street\, Charlotte\, NC\, 28204\, United States
CATEGORIES:Cafe,Charlotte,Charlotte Cafe,On-Site
END:VEVENT
BEGIN:VEVENT
DTSTART;TZID=America/New_York:20251204T130000
DTEND;TZID=America/New_York:20251204T133000
DTSTAMP:20260426T000523
CREATED:20251125T223506Z
LAST-MODIFIED:20251125T223506Z
UID:10011637-1764853200-1764855000@promiseresourcenetwork.org
SUMMARY:Recovery Cafe Milieu
DESCRIPTION:
URL:https://promiseresourcenetwork.org/event/recovery-cafe-milieu/2025-12-04/
LOCATION:Promise Resource Network\, 1401 E 7th Street\, Charlotte\, NC\, 28204\, United States
CATEGORIES:Cafe,Charlotte,Charlotte Cafe,On-Site
END:VEVENT
END:VCALENDAR