BEGIN:VCALENDAR
VERSION:2.0
PRODID:-//Promise Resource Network - ECPv6.15.20//NONSGML v1.0//EN
CALSCALE:GREGORIAN
METHOD:PUBLISH
X-WR-CALNAME:Promise Resource Network
X-ORIGINAL-URL:https://promiseresourcenetwork.org
X-WR-CALDESC:Events for Promise Resource Network
REFRESH-INTERVAL;VALUE=DURATION:PT1H
X-Robots-Tag:noindex
X-PUBLISHED-TTL:PT1H
BEGIN:VTIMEZONE
TZID:America/New_York
BEGIN:DAYLIGHT
TZOFFSETFROM:-0500
TZOFFSETTO:-0400
TZNAME:EDT
DTSTART:20240310T070000
END:DAYLIGHT
BEGIN:STANDARD
TZOFFSETFROM:-0400
TZOFFSETTO:-0500
TZNAME:EST
DTSTART:20241103T060000
END:STANDARD
BEGIN:DAYLIGHT
TZOFFSETFROM:-0500
TZOFFSETTO:-0400
TZNAME:EDT
DTSTART:20250309T070000
END:DAYLIGHT
BEGIN:STANDARD
TZOFFSETFROM:-0400
TZOFFSETTO:-0500
TZNAME:EST
DTSTART:20251102T060000
END:STANDARD
BEGIN:DAYLIGHT
TZOFFSETFROM:-0500
TZOFFSETTO:-0400
TZNAME:EDT
DTSTART:20260308T070000
END:DAYLIGHT
BEGIN:STANDARD
TZOFFSETFROM:-0400
TZOFFSETTO:-0500
TZNAME:EST
DTSTART:20261101T060000
END:STANDARD
BEGIN:DAYLIGHT
TZOFFSETFROM:-0500
TZOFFSETTO:-0400
TZNAME:EDT
DTSTART:20270314T070000
END:DAYLIGHT
BEGIN:STANDARD
TZOFFSETFROM:-0400
TZOFFSETTO:-0500
TZNAME:EST
DTSTART:20271107T060000
END:STANDARD
END:VTIMEZONE
BEGIN:VEVENT
DTSTART;TZID=America/New_York:20251229T140000
DTEND;TZID=America/New_York:20251229T150000
DTSTAMP:20260420T075043
CREATED:20251125T223210Z
LAST-MODIFIED:20251125T223210Z
UID:10011621-1767016800-1767020400@promiseresourcenetwork.org
SUMMARY:Circle
DESCRIPTION:
URL:https://promiseresourcenetwork.org/event/circle-dec/2025-12-29/
LOCATION:Promise Resource Network\, 1401 E 7th Street\, Charlotte\, NC\, 28204\, United States
CATEGORIES:Cafe,Charlotte,Charlotte Cafe,On-Site
END:VEVENT
BEGIN:VEVENT
DTSTART;TZID=America/New_York:20251230T130000
DTEND;TZID=America/New_York:20251230T133000
DTSTAMP:20260420T075043
CREATED:20251125T223506Z
LAST-MODIFIED:20251125T223506Z
UID:10011643-1767099600-1767101400@promiseresourcenetwork.org
SUMMARY:Recovery Cafe Milieu
DESCRIPTION:
URL:https://promiseresourcenetwork.org/event/recovery-cafe-milieu/2025-12-30/
LOCATION:Promise Resource Network\, 1401 E 7th Street\, Charlotte\, NC\, 28204\, United States
CATEGORIES:Cafe,Charlotte,Charlotte Cafe,On-Site
END:VEVENT
BEGIN:VEVENT
DTSTART;TZID=America/New_York:20251230T133000
DTEND;TZID=America/New_York:20251230T140000
DTSTAMP:20260420T075043
CREATED:20251125T223908Z
LAST-MODIFIED:20251125T223908Z
UID:10011652-1767101400-1767103200@promiseresourcenetwork.org
SUMMARY:Coffee Hour
DESCRIPTION:
URL:https://promiseresourcenetwork.org/event/coffee-hour-2-2/2025-12-30/
LOCATION:Promise Resource Network\, 1401 E 7th Street\, Charlotte\, NC\, 28204\, United States
CATEGORIES:Cafe,Charlotte,Charlotte Cafe,On-Site
END:VEVENT
BEGIN:VEVENT
DTSTART;TZID=America/New_York:20251230T140000
DTEND;TZID=America/New_York:20251230T150000
DTSTAMP:20260420T075043
CREATED:20251030T215226Z
LAST-MODIFIED:20251030T215226Z
UID:10011526-1767103200-1767106800@promiseresourcenetwork.org
SUMMARY:African Dance
DESCRIPTION:
URL:https://promiseresourcenetwork.org/event/drum-circle-african-dance-cafe/2025-12-30/
LOCATION:Promise Resource Network\, 1401 E 7th Street\, Charlotte\, NC\, 28204\, United States
CATEGORIES:Charlotte,Charlotte Cafe,Large Classroom,On-Site
END:VEVENT
BEGIN:VEVENT
DTSTART;TZID=America/New_York:20251230T140000
DTEND;TZID=America/New_York:20251230T150000
DTSTAMP:20260420T075043
CREATED:20251125T223210Z
LAST-MODIFIED:20251125T223210Z
UID:10011622-1767103200-1767106800@promiseresourcenetwork.org
SUMMARY:Circle
DESCRIPTION:
URL:https://promiseresourcenetwork.org/event/circle-dec/2025-12-30/
LOCATION:Promise Resource Network\, 1401 E 7th Street\, Charlotte\, NC\, 28204\, United States
CATEGORIES:Cafe,Charlotte,Charlotte Cafe,On-Site
END:VEVENT
BEGIN:VEVENT
DTSTART;TZID=America/New_York:20251231T140000
DTEND;TZID=America/New_York:20251231T150000
DTSTAMP:20260420T075043
CREATED:20251125T223210Z
LAST-MODIFIED:20251125T223210Z
UID:10011623-1767189600-1767193200@promiseresourcenetwork.org
SUMMARY:Circle
DESCRIPTION:
URL:https://promiseresourcenetwork.org/event/circle-dec/2025-12-31/
LOCATION:Promise Resource Network\, 1401 E 7th Street\, Charlotte\, NC\, 28204\, United States
CATEGORIES:Cafe,Charlotte,Charlotte Cafe,On-Site
END:VEVENT
BEGIN:VEVENT
DTSTART;VALUE=DATE:20260101
DTEND;VALUE=DATE:20260102
DTSTAMP:20260420T075043
CREATED:20251230T162937Z
LAST-MODIFIED:20251230T162937Z
UID:10011782-1767225600-1767311999@promiseresourcenetwork.org
SUMMARY:CLOSED FOR THE HOLIDAY
DESCRIPTION:
URL:https://promiseresourcenetwork.org/event/closed-for-the-holiday-3/
LOCATION:NC
CATEGORIES:Charlotte,Charlotte Cafe,Charlotte Hub,Closed,Raleigh,Raleigh Cafe,Raleigh Hub
END:VEVENT
BEGIN:VEVENT
DTSTART;TZID=America/New_York:20260102T120000
DTEND;TZID=America/New_York:20260102T130000
DTSTAMP:20260420T075043
CREATED:20251230T202314Z
LAST-MODIFIED:20251230T202314Z
UID:10012000-1767355200-1767358800@promiseresourcenetwork.org
SUMMARY:HUB CLOSED
DESCRIPTION:
URL:https://promiseresourcenetwork.org/event/hub-closed-6/2026-01-02/
LOCATION:Promise Resource Network\, 1401 E 7th Street\, Charlotte\, NC\, 28204\, United States
CATEGORIES:Charlotte,Charlotte Cafe,Closed
END:VEVENT
BEGIN:VEVENT
DTSTART;TZID=America/New_York:20260102T130000
DTEND;TZID=America/New_York:20260102T133000
DTSTAMP:20260420T075043
CREATED:20251230T210203Z
LAST-MODIFIED:20251230T210203Z
UID:10012098-1767358800-1767360600@promiseresourcenetwork.org
SUMMARY:Milieu
DESCRIPTION:
URL:https://promiseresourcenetwork.org/event/milleu-2-2-2/2026-01-02/
LOCATION:Promise Resource Network\, 1401 E 7th Street\, Charlotte\, NC\, 28204\, United States
CATEGORIES:Cafe,Charlotte,Charlotte Cafe,On-Site
END:VEVENT
BEGIN:VEVENT
DTSTART;TZID=America/New_York:20260102T143000
DTEND;TZID=America/New_York:20260102T153000
DTSTAMP:20260420T075043
CREATED:20251230T204106Z
LAST-MODIFIED:20251230T204106Z
UID:10012070-1767364200-1767367800@promiseresourcenetwork.org
SUMMARY:Come As You Are
DESCRIPTION:
URL:https://promiseresourcenetwork.org/event/come-as-you-are-2/2026-01-02/
LOCATION:Promise Resource Network\, 1401 E 7th Street\, Charlotte\, NC\, 28204\, United States
CATEGORIES:Charlotte,Charlotte Cafe,On-Site,Upstairs/Outside
END:VEVENT
BEGIN:VEVENT
DTSTART;TZID=America/New_York:20260102T143000
DTEND;TZID=America/New_York:20260102T153000
DTSTAMP:20260420T075043
CREATED:20251230T204455Z
LAST-MODIFIED:20251230T204455Z
UID:10012086-1767364200-1767367800@promiseresourcenetwork.org
SUMMARY:Exploring The 12 Steps
DESCRIPTION:Exploring the 12 Steps with John and Shannon from a trauma informed lens. Open to all paths to recovery. Weekly study of each step and discussion regarding how looking through a trauma informed lens can enhance your recovery.
URL:https://promiseresourcenetwork.org/event/exploring-the-12-steps-2/2026-01-02/
LOCATION:Promise Resource Network\, 1401 E 7th Street\, Charlotte\, NC\, 28204\, United States
CATEGORIES:Charlotte,Charlotte Cafe,Large Classroom,On-Site
END:VEVENT
END:VCALENDAR