BEGIN:VCALENDAR
VERSION:2.0
PRODID:-//Promise Resource Network - ECPv6.15.20//NONSGML v1.0//EN
CALSCALE:GREGORIAN
METHOD:PUBLISH
X-WR-CALNAME:Promise Resource Network
X-ORIGINAL-URL:https://promiseresourcenetwork.org
X-WR-CALDESC:Events for Promise Resource Network
REFRESH-INTERVAL;VALUE=DURATION:PT1H
X-Robots-Tag:noindex
X-PUBLISHED-TTL:PT1H
BEGIN:VTIMEZONE
TZID:America/New_York
BEGIN:DAYLIGHT
TZOFFSETFROM:-0500
TZOFFSETTO:-0400
TZNAME:EDT
DTSTART:20250309T070000
END:DAYLIGHT
BEGIN:STANDARD
TZOFFSETFROM:-0400
TZOFFSETTO:-0500
TZNAME:EST
DTSTART:20251102T060000
END:STANDARD
BEGIN:DAYLIGHT
TZOFFSETFROM:-0500
TZOFFSETTO:-0400
TZNAME:EDT
DTSTART:20260308T070000
END:DAYLIGHT
BEGIN:STANDARD
TZOFFSETFROM:-0400
TZOFFSETTO:-0500
TZNAME:EST
DTSTART:20261101T060000
END:STANDARD
BEGIN:DAYLIGHT
TZOFFSETFROM:-0500
TZOFFSETTO:-0400
TZNAME:EDT
DTSTART:20270314T070000
END:DAYLIGHT
BEGIN:STANDARD
TZOFFSETFROM:-0400
TZOFFSETTO:-0500
TZNAME:EST
DTSTART:20271107T060000
END:STANDARD
END:VTIMEZONE
BEGIN:VEVENT
DTSTART;VALUE=DATE:20260119
DTEND;VALUE=DATE:20260120
DTSTAMP:20260420T075050
CREATED:20251230T163416Z
LAST-MODIFIED:20251230T163416Z
UID:10011784-1768780800-1768867199@promiseresourcenetwork.org
SUMMARY:CLOSED FOR THE HOLIDAY
DESCRIPTION:
URL:https://promiseresourcenetwork.org/event/closed-for-the-holiday-4/
LOCATION:NC
CATEGORIES:Charlotte,Charlotte Cafe,Charlotte Hub,Closed,Raleigh,Raleigh Cafe,Raleigh Hub
END:VEVENT
BEGIN:VEVENT
DTSTART;TZID=America/New_York:20260120T120000
DTEND;TZID=America/New_York:20260120T130000
DTSTAMP:20260420T075050
CREATED:20251230T202314Z
LAST-MODIFIED:20251230T202314Z
UID:10012011-1768910400-1768914000@promiseresourcenetwork.org
SUMMARY:HUB CLOSED
DESCRIPTION:
URL:https://promiseresourcenetwork.org/event/hub-closed-6/2026-01-20/
LOCATION:Promise Resource Network\, 1401 E 7th Street\, Charlotte\, NC\, 28204\, United States
CATEGORIES:Charlotte,Charlotte Cafe,Closed
END:VEVENT
BEGIN:VEVENT
DTSTART;TZID=America/New_York:20260120T130000
DTEND;TZID=America/New_York:20260120T133000
DTSTAMP:20260420T075050
CREATED:20251230T210203Z
LAST-MODIFIED:20251230T210203Z
UID:10012109-1768914000-1768915800@promiseresourcenetwork.org
SUMMARY:Milieu
DESCRIPTION:
URL:https://promiseresourcenetwork.org/event/milleu-2-2-2/2026-01-20/
LOCATION:Promise Resource Network\, 1401 E 7th Street\, Charlotte\, NC\, 28204\, United States
CATEGORIES:Cafe,Charlotte,Charlotte Cafe,On-Site
END:VEVENT
BEGIN:VEVENT
DTSTART;TZID=America/New_York:20260120T133000
DTEND;TZID=America/New_York:20260120T140000
DTSTAMP:20260420T075050
CREATED:20251125T223908Z
LAST-MODIFIED:20251125T223908Z
UID:10011657-1768915800-1768917600@promiseresourcenetwork.org
SUMMARY:Coffee Hour
DESCRIPTION:
URL:https://promiseresourcenetwork.org/event/coffee-hour-2-2/2026-01-20/
LOCATION:Promise Resource Network\, 1401 E 7th Street\, Charlotte\, NC\, 28204\, United States
CATEGORIES:Cafe,Charlotte,Charlotte Cafe,On-Site
END:VEVENT
BEGIN:VEVENT
DTSTART;TZID=America/New_York:20260120T140000
DTEND;TZID=America/New_York:20260120T150000
DTSTAMP:20260420T075050
CREATED:20251125T223210Z
LAST-MODIFIED:20251125T223210Z
UID:10011632-1768917600-1768921200@promiseresourcenetwork.org
SUMMARY:Circle
DESCRIPTION:
URL:https://promiseresourcenetwork.org/event/circle-dec/2026-01-20/
LOCATION:Promise Resource Network\, 1401 E 7th Street\, Charlotte\, NC\, 28204\, United States
CATEGORIES:Cafe,Charlotte,Charlotte Cafe,On-Site
END:VEVENT
BEGIN:VEVENT
DTSTART;TZID=America/New_York:20260121T120000
DTEND;TZID=America/New_York:20260121T130000
DTSTAMP:20260420T075050
CREATED:20251230T202314Z
LAST-MODIFIED:20251230T202314Z
UID:10012012-1768996800-1769000400@promiseresourcenetwork.org
SUMMARY:HUB CLOSED
DESCRIPTION:
URL:https://promiseresourcenetwork.org/event/hub-closed-6/2026-01-21/
LOCATION:Promise Resource Network\, 1401 E 7th Street\, Charlotte\, NC\, 28204\, United States
CATEGORIES:Charlotte,Charlotte Cafe,Closed
END:VEVENT
BEGIN:VEVENT
DTSTART;TZID=America/New_York:20260121T130000
DTEND;TZID=America/New_York:20260121T133000
DTSTAMP:20260420T075050
CREATED:20251230T210203Z
LAST-MODIFIED:20251230T210203Z
UID:10012110-1769000400-1769002200@promiseresourcenetwork.org
SUMMARY:Milieu
DESCRIPTION:
URL:https://promiseresourcenetwork.org/event/milleu-2-2-2/2026-01-21/
LOCATION:Promise Resource Network\, 1401 E 7th Street\, Charlotte\, NC\, 28204\, United States
CATEGORIES:Cafe,Charlotte,Charlotte Cafe,On-Site
END:VEVENT
BEGIN:VEVENT
DTSTART;TZID=America/New_York:20260121T133000
DTEND;TZID=America/New_York:20260121T140000
DTSTAMP:20260420T075050
CREATED:20251230T212124Z
LAST-MODIFIED:20251230T212124Z
UID:10012154-1769002200-1769004000@promiseresourcenetwork.org
SUMMARY:Mindful Meditation
DESCRIPTION:
URL:https://promiseresourcenetwork.org/event/mindful-meditation-2/2026-01-21/
LOCATION:Promise Resource Network\, 1401 E 7th Street\, Charlotte\, NC\, 28204\, United States
CATEGORIES:Charlotte,Charlotte Cafe,On-Site,Small Classroom/Computer Lab
END:VEVENT
BEGIN:VEVENT
DTSTART;TZID=America/New_York:20260121T133000
DTEND;TZID=America/New_York:20260121T143000
DTSTAMP:20260420T075050
CREATED:20251230T212540Z
LAST-MODIFIED:20251230T212540Z
UID:10012162-1769002200-1769005800@promiseresourcenetwork.org
SUMMARY:Expression Connection
DESCRIPTION:Expression Connection is a recovery-focused class that uses creative expression—like writing\, art\, music\, and movement—as tools for healing\, self-discovery\, and connection.
URL:https://promiseresourcenetwork.org/event/expression-connection-2/2026-01-21/
LOCATION:Promise Resource Network\, 1401 E 7th Street\, Charlotte\, NC\, 28204\, United States
CATEGORIES:Charlotte,Charlotte Cafe,On-Site,Upstairs/Outside
END:VEVENT
BEGIN:VEVENT
DTSTART;TZID=America/New_York:20260121T143000
DTEND;TZID=America/New_York:20260121T153000
DTSTAMP:20260420T075050
CREATED:20251230T214024Z
LAST-MODIFIED:20251230T214024Z
UID:10012180-1769005800-1769009400@promiseresourcenetwork.org
SUMMARY:Mystery Class
DESCRIPTION:
URL:https://promiseresourcenetwork.org/event/mystery-class/2026-01-21/
LOCATION:NC
CATEGORIES:Charlotte,Charlotte Cafe,On-Site,Upstairs/Outside
END:VEVENT
BEGIN:VEVENT
DTSTART;TZID=America/New_York:20260122T120000
DTEND;TZID=America/New_York:20260122T130000
DTSTAMP:20260420T075050
CREATED:20251230T202314Z
LAST-MODIFIED:20251230T202314Z
UID:10012013-1769083200-1769086800@promiseresourcenetwork.org
SUMMARY:HUB CLOSED
DESCRIPTION:
URL:https://promiseresourcenetwork.org/event/hub-closed-6/2026-01-22/
LOCATION:Promise Resource Network\, 1401 E 7th Street\, Charlotte\, NC\, 28204\, United States
CATEGORIES:Charlotte,Charlotte Cafe,Closed
END:VEVENT
BEGIN:VEVENT
DTSTART;TZID=America/New_York:20260122T130000
DTEND;TZID=America/New_York:20260122T133000
DTSTAMP:20260420T075050
CREATED:20251230T210203Z
LAST-MODIFIED:20251230T210203Z
UID:10012111-1769086800-1769088600@promiseresourcenetwork.org
SUMMARY:Milieu
DESCRIPTION:
URL:https://promiseresourcenetwork.org/event/milleu-2-2-2/2026-01-22/
LOCATION:Promise Resource Network\, 1401 E 7th Street\, Charlotte\, NC\, 28204\, United States
CATEGORIES:Cafe,Charlotte,Charlotte Cafe,On-Site
END:VEVENT
BEGIN:VEVENT
DTSTART;TZID=America/New_York:20260122T133000
DTEND;TZID=America/New_York:20260122T140000
DTSTAMP:20260420T075050
CREATED:20251125T223908Z
LAST-MODIFIED:20251125T223908Z
UID:10011658-1769088600-1769090400@promiseresourcenetwork.org
SUMMARY:Coffee Hour
DESCRIPTION:
URL:https://promiseresourcenetwork.org/event/coffee-hour-2-2/2026-01-22/
LOCATION:Promise Resource Network\, 1401 E 7th Street\, Charlotte\, NC\, 28204\, United States
CATEGORIES:Cafe,Charlotte,Charlotte Cafe,On-Site
END:VEVENT
BEGIN:VEVENT
DTSTART;TZID=America/New_York:20260122T133000
DTEND;TZID=America/New_York:20260122T143000
DTSTAMP:20260420T075050
CREATED:20251230T214140Z
LAST-MODIFIED:20251230T214140Z
UID:10012182-1769088600-1769092200@promiseresourcenetwork.org
SUMMARY:Build a Vision Board
DESCRIPTION:
URL:https://promiseresourcenetwork.org/event/build-a-vision-board/
LOCATION:Promise Resource Network\, 1401 E 7th Street\, Charlotte\, NC\, 28204\, United States
CATEGORIES:Charlotte,Charlotte Cafe,Large Classroom,On-Site
END:VEVENT
BEGIN:VEVENT
DTSTART;TZID=America/New_York:20260122T140000
DTEND;TZID=America/New_York:20260122T150000
DTSTAMP:20260420T075050
CREATED:20251125T223210Z
LAST-MODIFIED:20251125T223210Z
UID:10011633-1769090400-1769094000@promiseresourcenetwork.org
SUMMARY:Circle
DESCRIPTION:
URL:https://promiseresourcenetwork.org/event/circle-dec/2026-01-22/
LOCATION:Promise Resource Network\, 1401 E 7th Street\, Charlotte\, NC\, 28204\, United States
CATEGORIES:Cafe,Charlotte,Charlotte Cafe,On-Site
END:VEVENT
BEGIN:VEVENT
DTSTART;TZID=America/New_York:20260122T140000
DTEND;TZID=America/New_York:20260122T150000
DTSTAMP:20260420T075050
CREATED:20251230T212927Z
LAST-MODIFIED:20251230T212927Z
UID:10012170-1769090400-1769094000@promiseresourcenetwork.org
SUMMARY:Coping Skills
DESCRIPTION:
URL:https://promiseresourcenetwork.org/event/coping-skills-cafe-dec-2/2026-01-22/
LOCATION:Promise Resource Network\, 1401 E 7th Street\, Charlotte\, NC\, 28204\, United States
CATEGORIES:Charlotte,Charlotte Cafe,Large Classroom,On-Site
END:VEVENT
BEGIN:VEVENT
DTSTART;TZID=America/New_York:20260122T143000
DTEND;TZID=America/New_York:20260122T153000
DTSTAMP:20260420T075050
CREATED:20250801T172047Z
LAST-MODIFIED:20250801T172047Z
UID:10011145-1769092200-1769095800@promiseresourcenetwork.org
SUMMARY:New Member Introduction
DESCRIPTION:
URL:https://promiseresourcenetwork.org/event/cafe-new-member-introduction/2026-01-22/
LOCATION:Promise Resource Network\, 1401 E 7th Street\, Charlotte\, NC\, 28204\, United States
CATEGORIES:Charlotte,Charlotte Cafe,On-Site,Upstairs/Outside
END:VEVENT
BEGIN:VEVENT
DTSTART;TZID=America/New_York:20260123T120000
DTEND;TZID=America/New_York:20260123T130000
DTSTAMP:20260420T075050
CREATED:20251230T202314Z
LAST-MODIFIED:20251230T202314Z
UID:10012014-1769169600-1769173200@promiseresourcenetwork.org
SUMMARY:HUB CLOSED
DESCRIPTION:
URL:https://promiseresourcenetwork.org/event/hub-closed-6/2026-01-23/
LOCATION:Promise Resource Network\, 1401 E 7th Street\, Charlotte\, NC\, 28204\, United States
CATEGORIES:Charlotte,Charlotte Cafe,Closed
END:VEVENT
BEGIN:VEVENT
DTSTART;TZID=America/New_York:20260123T130000
DTEND;TZID=America/New_York:20260123T133000
DTSTAMP:20260420T075050
CREATED:20251230T210203Z
LAST-MODIFIED:20251230T210203Z
UID:10012112-1769173200-1769175000@promiseresourcenetwork.org
SUMMARY:Milieu
DESCRIPTION:
URL:https://promiseresourcenetwork.org/event/milleu-2-2-2/2026-01-23/
LOCATION:Promise Resource Network\, 1401 E 7th Street\, Charlotte\, NC\, 28204\, United States
CATEGORIES:Cafe,Charlotte,Charlotte Cafe,On-Site
END:VEVENT
BEGIN:VEVENT
DTSTART;TZID=America/New_York:20260123T140000
DTEND;TZID=America/New_York:20260123T150000
DTSTAMP:20260420T075050
CREATED:20251230T204106Z
LAST-MODIFIED:20251230T204106Z
UID:10012075-1769176800-1769180400@promiseresourcenetwork.org
SUMMARY:Come As You Are
DESCRIPTION:
URL:https://promiseresourcenetwork.org/event/come-as-you-are-2/2026-01-23/
LOCATION:Promise Resource Network\, 1401 E 7th Street\, Charlotte\, NC\, 28204\, United States
CATEGORIES:Charlotte,Charlotte Cafe,On-Site,Upstairs/Outside
END:VEVENT
BEGIN:VEVENT
DTSTART;TZID=America/New_York:20260123T143000
DTEND;TZID=America/New_York:20260123T153000
DTSTAMP:20260420T075050
CREATED:20251230T204455Z
LAST-MODIFIED:20251230T204455Z
UID:10012089-1769178600-1769182200@promiseresourcenetwork.org
SUMMARY:Exploring The 12 Steps
DESCRIPTION:Exploring the 12 Steps with John and Shannon from a trauma informed lens. Open to all paths to recovery. Weekly study of each step and discussion regarding how looking through a trauma informed lens can enhance your recovery.
URL:https://promiseresourcenetwork.org/event/exploring-the-12-steps-2/2026-01-23/
LOCATION:Promise Resource Network\, 1401 E 7th Street\, Charlotte\, NC\, 28204\, United States
CATEGORIES:Charlotte,Charlotte Cafe,Large Classroom,On-Site
END:VEVENT
END:VCALENDAR