BEGIN:VCALENDAR
VERSION:2.0
PRODID:-//Promise Resource Network - ECPv6.15.20//NONSGML v1.0//EN
CALSCALE:GREGORIAN
METHOD:PUBLISH
X-WR-CALNAME:Promise Resource Network
X-ORIGINAL-URL:https://promiseresourcenetwork.org
X-WR-CALDESC:Events for Promise Resource Network
REFRESH-INTERVAL;VALUE=DURATION:PT1H
X-Robots-Tag:noindex
X-PUBLISHED-TTL:PT1H
BEGIN:VTIMEZONE
TZID:America/New_York
BEGIN:DAYLIGHT
TZOFFSETFROM:-0500
TZOFFSETTO:-0400
TZNAME:EDT
DTSTART:20250309T070000
END:DAYLIGHT
BEGIN:STANDARD
TZOFFSETFROM:-0400
TZOFFSETTO:-0500
TZNAME:EST
DTSTART:20251102T060000
END:STANDARD
BEGIN:DAYLIGHT
TZOFFSETFROM:-0500
TZOFFSETTO:-0400
TZNAME:EDT
DTSTART:20260308T070000
END:DAYLIGHT
BEGIN:STANDARD
TZOFFSETFROM:-0400
TZOFFSETTO:-0500
TZNAME:EST
DTSTART:20261101T060000
END:STANDARD
BEGIN:DAYLIGHT
TZOFFSETFROM:-0500
TZOFFSETTO:-0400
TZNAME:EDT
DTSTART:20270314T070000
END:DAYLIGHT
BEGIN:STANDARD
TZOFFSETFROM:-0400
TZOFFSETTO:-0500
TZNAME:EST
DTSTART:20271107T060000
END:STANDARD
END:VTIMEZONE
BEGIN:VEVENT
DTSTART;TZID=America/New_York:20260318T090000
DTEND;TZID=America/New_York:20260318T091500
DTSTAMP:20260419T191616
CREATED:20260227T191435Z
LAST-MODIFIED:20260227T191435Z
UID:10012331-1773824400-1773825300@promiseresourcenetwork.org
SUMMARY:Morning Meditation
DESCRIPTION:Start your day with intention and calm. Our 15-minute Morning Meditation session offers a peaceful space to center yourself\, reduce stress\, and cultivate mindfulness. Led by staff and peers\, we set the tone for the Hub\, together.
URL:https://promiseresourcenetwork.org/event/morning-meditation-3-2/2026-03-18/
LOCATION:Promise Resource Network\, 1401 E 7th Street\, Charlotte\, NC\, 28204\, United States
CATEGORIES:Charlotte,Charlotte Hub,Large Classroom,On-Site
END:VEVENT
BEGIN:VEVENT
DTSTART;TZID=America/New_York:20260318T093000
DTEND;TZID=America/New_York:20260318T100000
DTSTAMP:20260419T191616
CREATED:20260227T203604Z
LAST-MODIFIED:20260227T203604Z
UID:10012392-1773826200-1773828000@promiseresourcenetwork.org
SUMMARY:Coffee and Chat
DESCRIPTION:
URL:https://promiseresourcenetwork.org/event/coffee-and-chat-3/2026-03-18/
LOCATION:Promise Resource Network\, 1401 E 7th Street\, Charlotte\, NC\, 28204\, United States
CATEGORIES:Cafe,Charlotte,Charlotte Hub,On-Site
END:VEVENT
BEGIN:VEVENT
DTSTART;TZID=America/New_York:20260318T100000
DTEND;TZID=America/New_York:20260318T110000
DTSTAMP:20260419T191616
CREATED:20260227T204053Z
LAST-MODIFIED:20260227T204053Z
UID:10012395-1773828000-1773831600@promiseresourcenetwork.org
SUMMARY:Recovery 101
DESCRIPTION:Your journey\, your recovery\, your growth. Recovery 101 is a foundational group designed to explore the essentials of healing from substance use and mental health challenges. \nEach class highlights a different recovery related theme and will help participants learn more about recovery and what it means to them individually.
URL:https://promiseresourcenetwork.org/event/recovery-101/2026-03-18/
LOCATION:Promise Resource Network\, 1401 E 7th Street\, Charlotte\, NC\, 28204\, United States
CATEGORIES:Charlotte,Charlotte Hub,Large Classroom,On-Site
END:VEVENT
BEGIN:VEVENT
DTSTART;TZID=America/New_York:20260318T100000
DTEND;TZID=America/New_York:20260318T110000
DTSTAMP:20260419T191616
CREATED:20260227T204701Z
LAST-MODIFIED:20260227T204701Z
UID:10012400-1773828000-1773831600@promiseresourcenetwork.org
SUMMARY:Healing From Within
DESCRIPTION:
URL:https://promiseresourcenetwork.org/event/healing-from-within/2026-03-18/
LOCATION:Promise Resource Network\, 1401 E 7th Street\, Charlotte\, NC\, 28204\, United States
CATEGORIES:Charlotte,Charlotte Hub,On-Site,Upstairs/Outside
END:VEVENT
BEGIN:VEVENT
DTSTART;TZID=America/New_York:20260318T110000
DTEND;TZID=America/New_York:20260318T120000
DTSTAMP:20260419T191616
CREATED:20260227T205358Z
LAST-MODIFIED:20260227T205358Z
UID:10012404-1773831600-1773835200@promiseresourcenetwork.org
SUMMARY:Robin's Book Club
DESCRIPTION:Join us in reading and discussing “Who Ordered This Truckload of Dung”\, by Ajahn Brahm. Engage in a thoughtful conversation about how this book can be applied to our daily recovery.
URL:https://promiseresourcenetwork.org/event/robins-book-club-3/2026-03-18/
LOCATION:Promise Resource Network\, 1401 E 7th Street\, Charlotte\, NC\, 28204\, United States
CATEGORIES:Charlotte,Charlotte Hub,Large Classroom,On-Site
END:VEVENT
BEGIN:VEVENT
DTSTART;TZID=America/New_York:20260318T110000
DTEND;TZID=America/New_York:20260318T120000
DTSTAMP:20260419T191616
CREATED:20260227T205608Z
LAST-MODIFIED:20260227T205608Z
UID:10012408-1773831600-1773835200@promiseresourcenetwork.org
SUMMARY:Peer Leader Council
DESCRIPTION:
URL:https://promiseresourcenetwork.org/event/peer-leader-council-2/2026-03-18/
LOCATION:Promise Resource Network\, 1401 E 7th Street\, Charlotte\, NC\, 28204\, United States
CATEGORIES:Charlotte,Charlotte Hub,On-Site,Upstairs/Outside
END:VEVENT
BEGIN:VEVENT
DTSTART;TZID=America/New_York:20260318T130000
DTEND;TZID=America/New_York:20260318T133000
DTSTAMP:20260419T191616
CREATED:20260228T192317Z
LAST-MODIFIED:20260228T192317Z
UID:10012481-1773838800-1773840600@promiseresourcenetwork.org
SUMMARY:Milieu
DESCRIPTION:
URL:https://promiseresourcenetwork.org/event/milieu-2/2026-03-18/
LOCATION:Promise Resource Network\, 1401 E 7th Street\, Charlotte\, NC\, 28204\, United States
CATEGORIES:Charlotte,Charlotte Cafe,Large Classroom,On-Site
END:VEVENT
END:VCALENDAR