BEGIN:VCALENDAR
VERSION:2.0
PRODID:-//Promise Resource Network - ECPv6.15.20//NONSGML v1.0//EN
CALSCALE:GREGORIAN
METHOD:PUBLISH
X-WR-CALNAME:Promise Resource Network
X-ORIGINAL-URL:https://promiseresourcenetwork.org
X-WR-CALDESC:Events for Promise Resource Network
REFRESH-INTERVAL;VALUE=DURATION:PT1H
X-Robots-Tag:noindex
X-PUBLISHED-TTL:PT1H
BEGIN:VTIMEZONE
TZID:America/New_York
BEGIN:DAYLIGHT
TZOFFSETFROM:-0500
TZOFFSETTO:-0400
TZNAME:EDT
DTSTART:20240310T070000
END:DAYLIGHT
BEGIN:STANDARD
TZOFFSETFROM:-0400
TZOFFSETTO:-0500
TZNAME:EST
DTSTART:20241103T060000
END:STANDARD
BEGIN:DAYLIGHT
TZOFFSETFROM:-0500
TZOFFSETTO:-0400
TZNAME:EDT
DTSTART:20250309T070000
END:DAYLIGHT
BEGIN:STANDARD
TZOFFSETFROM:-0400
TZOFFSETTO:-0500
TZNAME:EST
DTSTART:20251102T060000
END:STANDARD
BEGIN:DAYLIGHT
TZOFFSETFROM:-0500
TZOFFSETTO:-0400
TZNAME:EDT
DTSTART:20260308T070000
END:DAYLIGHT
BEGIN:STANDARD
TZOFFSETFROM:-0400
TZOFFSETTO:-0500
TZNAME:EST
DTSTART:20261101T060000
END:STANDARD
END:VTIMEZONE
BEGIN:VEVENT
DTSTART;TZID=America/New_York:20251228T140000
DTEND;TZID=America/New_York:20251228T150000
DTSTAMP:20260421T001038
CREATED:20251126T212639Z
LAST-MODIFIED:20251126T212639Z
UID:10011778-1766930400-1766934000@promiseresourcenetwork.org
SUMMARY:Creative Self
DESCRIPTION:Creating and crafting are important parts of our wellness. Having opportunities to explore art and create things is invaluable. Explore different art and craft projects in this class.
URL:https://promiseresourcenetwork.org/event/creative-self/2025-12-28/
LOCATION:Raleigh Hub and Cafe\, 310 N Harrington St.\, Raleigh\, NC\, 27601
CATEGORIES:On-Site,Raleigh,Raleigh Cafe
END:VEVENT
BEGIN:VEVENT
DTSTART;TZID=America/New_York:20251228T130000
DTEND;TZID=America/New_York:20251228T140000
DTSTAMP:20260421T001038
CREATED:20251126T212453Z
LAST-MODIFIED:20251126T212453Z
UID:10011771-1766926800-1766930400@promiseresourcenetwork.org
SUMMARY:Own Your Power
DESCRIPTION:
URL:https://promiseresourcenetwork.org/event/own-your-power/2025-12-28/
LOCATION:Raleigh Hub and Cafe\, 310 N Harrington St.\, Raleigh\, NC\, 27601
CATEGORIES:On-Site,Raleigh,Raleigh Cafe
END:VEVENT
BEGIN:VEVENT
DTSTART;TZID=America/New_York:20251228T100000
DTEND;TZID=America/New_York:20251228T110000
DTSTAMP:20260421T001038
CREATED:20251126T171233Z
LAST-MODIFIED:20251126T171233Z
UID:10011757-1766916000-1766919600@promiseresourcenetwork.org
SUMMARY:Core Communication
DESCRIPTION:Learn about how we communicate and different styles of communication and how we can use those in all aspects of our lives.
URL:https://promiseresourcenetwork.org/event/core-communication/2025-12-28/
LOCATION:Raleigh Hub and Cafe\, 310 N Harrington St.\, Raleigh\, NC\, 27601
CATEGORIES:On-Site,Raleigh,Raleigh Cafe
END:VEVENT
BEGIN:VEVENT
DTSTART;TZID=America/New_York:20251226T140000
DTEND;TZID=America/New_York:20251226T150000
DTSTAMP:20260421T001038
CREATED:20251027T202349Z
LAST-MODIFIED:20251027T202349Z
UID:10011483-1766757600-1766761200@promiseresourcenetwork.org
SUMMARY:Brush to Life
DESCRIPTION:
URL:https://promiseresourcenetwork.org/event/brush-to-life/2025-12-26/
LOCATION:Promise Resource Network\, 1401 E 7th Street\, Charlotte\, NC\, 28204\, United States
CATEGORIES:Charlotte,Charlotte Hub,On-Site,Upstairs/Outside
END:VEVENT
BEGIN:VEVENT
DTSTART;TZID=America/New_York:20251226T113000
DTEND;TZID=America/New_York:20251226T123000
DTSTAMP:20260421T001038
CREATED:20260228T015509Z
LAST-MODIFIED:20260228T015509Z
UID:10012451-1766748600-1766752200@promiseresourcenetwork.org
SUMMARY:Cafe Bus Stop
DESCRIPTION:
URL:https://promiseresourcenetwork.org/event/cafe-bus-stop-2/2025-12-26/
LOCATION:Promise Resource Network\, 1401 E 7th Street\, Charlotte\, NC\, 28204\, United States
CATEGORIES:Cafe,Charlotte,Charlotte Hub,On-Site
END:VEVENT
BEGIN:VEVENT
DTSTART;TZID=America/New_York:20251226T113000
DTEND;TZID=America/New_York:20251226T123000
DTSTAMP:20260421T001038
CREATED:20251125T225223Z
LAST-MODIFIED:20251125T225223Z
UID:10011675-1766748600-1766752200@promiseresourcenetwork.org
SUMMARY:Cafe Bus Stop
DESCRIPTION:
URL:https://promiseresourcenetwork.org/event/cafe-bus-stop-clt-cafe/2025-12-26/
LOCATION:Promise Resource Network\, 1401 E 7th Street\, Charlotte\, NC\, 28204\, United States
CATEGORIES:Cafe,Charlotte,Charlotte Hub,On-Site
END:VEVENT
BEGIN:VEVENT
DTSTART;TZID=America/New_York:20251226T110000
DTEND;TZID=America/New_York:20251226T120000
DTSTAMP:20260421T001038
CREATED:20251125T215653Z
LAST-MODIFIED:20251125T215653Z
UID:10011606-1766746800-1766750400@promiseresourcenetwork.org
SUMMARY:CAFE BUS STOP
DESCRIPTION:
URL:https://promiseresourcenetwork.org/event/cafe-bus-stop-clt-hub/2025-12-26/
LOCATION:Promise Resource Network\, 1401 E 7th Street\, Charlotte\, NC\, 28204\, United States
CATEGORIES:Charlotte,Charlotte Hub,On-Site,Upstairs/Outside
END:VEVENT
BEGIN:VEVENT
DTSTART;TZID=America/New_York:20251226T103000
DTEND;TZID=America/New_York:20251226T113000
DTSTAMP:20260421T001038
CREATED:20251003T193616Z
LAST-MODIFIED:20251003T193616Z
UID:10011232-1766745000-1766748600@promiseresourcenetwork.org
SUMMARY:Keep your Power
DESCRIPTION:Come explore the good\, bad\, and ugly of our emotions and complete 10-hours towards a Peer Support Specialist Certification.
URL:https://promiseresourcenetwork.org/event/keep-your-power-2-2-2-2-2/2025-12-26/
LOCATION:Promise Resource Network\, 1401 E 7th Street\, Charlotte\, NC\, 28204\, United States
CATEGORIES:Charlotte,Charlotte Hub,Large Classroom,On-Site
END:VEVENT
BEGIN:VEVENT
DTSTART;TZID=America/New_York:20251225T133000
DTEND;TZID=America/New_York:20251225T140000
DTSTAMP:20260421T001038
CREATED:20251125T223908Z
LAST-MODIFIED:20251125T223908Z
UID:10011651-1766669400-1766671200@promiseresourcenetwork.org
SUMMARY:Coffee Hour
DESCRIPTION:
URL:https://promiseresourcenetwork.org/event/coffee-hour-2-2/2025-12-25/
LOCATION:Promise Resource Network\, 1401 E 7th Street\, Charlotte\, NC\, 28204\, United States
CATEGORIES:Cafe,Charlotte,Charlotte Cafe,On-Site
END:VEVENT
BEGIN:VEVENT
DTSTART;TZID=America/New_York:20251224T110000
DTEND;TZID=America/New_York:20251224T120000
DTSTAMP:20260421T001038
CREATED:20251125T214100Z
LAST-MODIFIED:20251125T214100Z
UID:10011587-1766574000-1766577600@promiseresourcenetwork.org
SUMMARY:Stocks and Bonds
DESCRIPTION:
URL:https://promiseresourcenetwork.org/event/stocks-and-bonds/2025-12-24/
LOCATION:Promise Resource Network\, 1401 E 7th Street\, Charlotte\, NC\, 28204\, United States
CATEGORIES:Charlotte,Charlotte Hub,Large Classroom,On-Site
END:VEVENT
BEGIN:VEVENT
DTSTART;TZID=America/New_York:20251224T100000
DTEND;TZID=America/New_York:20251224T110000
DTSTAMP:20260421T001039
CREATED:20251003T190412Z
LAST-MODIFIED:20251003T190412Z
UID:10012310-1766570400-1766574000@promiseresourcenetwork.org
SUMMARY:Recovery 101
DESCRIPTION:Your journey\, your recovery\, your growth. Recovery 101 is a foundational group designed to explore the essentials of healing from substance use and mental health challenges. \nEach class highlights a different recovery related theme and will help participants learn more about recovery and what it means to them individually.
URL:https://promiseresourcenetwork.org/event/recovery-101-2-2/2025-12-24/
LOCATION:Promise Resource Network\, 1401 E 7th Street\, Charlotte\, NC\, 28204\, United States
CATEGORIES:Charlotte,Charlotte Hub,Large Classroom,On-Site
END:VEVENT
BEGIN:VEVENT
DTSTART;TZID=America/New_York:20251224T090000
DTEND;TZID=America/New_York:20251224T100000
DTSTAMP:20260421T001039
CREATED:20251027T195456Z
LAST-MODIFIED:20251027T195456Z
UID:10011433-1766566800-1766570400@promiseresourcenetwork.org
SUMMARY:Coffee and Chat
DESCRIPTION:
URL:https://promiseresourcenetwork.org/event/coffee-and-chat/2025-12-24/
LOCATION:Promise Resource Network\, 1401 E 7th Street\, Charlotte\, NC\, 28204\, United States
CATEGORIES:Cafe,Charlotte,Charlotte Hub,On-Site
END:VEVENT
BEGIN:VEVENT
DTSTART;TZID=America/New_York:20251223T140000
DTEND;TZID=America/New_York:20251223T150000
DTSTAMP:20260421T001039
CREATED:20251126T165422Z
LAST-MODIFIED:20251126T165422Z
UID:10011747-1766498400-1766502000@promiseresourcenetwork.org
SUMMARY:Budgeting Skills
DESCRIPTION:
URL:https://promiseresourcenetwork.org/event/budgeting-skills/2025-12-23/
LOCATION:The Retreat @ Fernwood\, 119 E Hargett St Suite 010\, Raleigh\, NC\, 27601\, United States
CATEGORIES:On-Site,Raleigh,Raleigh Cafe
END:VEVENT
BEGIN:VEVENT
DTSTART;TZID=America/New_York:20251223T140000
DTEND;TZID=America/New_York:20251223T150000
DTSTAMP:20260421T001039
CREATED:20251125T223210Z
LAST-MODIFIED:20251125T223210Z
UID:10011620-1766498400-1766502000@promiseresourcenetwork.org
SUMMARY:Circle
DESCRIPTION:
URL:https://promiseresourcenetwork.org/event/circle-dec/2025-12-23/
LOCATION:Promise Resource Network\, 1401 E 7th Street\, Charlotte\, NC\, 28204\, United States
CATEGORIES:Cafe,Charlotte,Charlotte Cafe,On-Site
END:VEVENT
BEGIN:VEVENT
DTSTART;TZID=America/New_York:20251223T140000
DTEND;TZID=America/New_York:20251223T150000
DTSTAMP:20260421T001039
CREATED:20251030T215226Z
LAST-MODIFIED:20251030T215226Z
UID:10011525-1766498400-1766502000@promiseresourcenetwork.org
SUMMARY:African Dance
DESCRIPTION:
URL:https://promiseresourcenetwork.org/event/drum-circle-african-dance-cafe/2025-12-23/
LOCATION:Promise Resource Network\, 1401 E 7th Street\, Charlotte\, NC\, 28204\, United States
CATEGORIES:Charlotte,Charlotte Cafe,Large Classroom,On-Site
END:VEVENT
BEGIN:VEVENT
DTSTART;TZID=America/New_York:20251223T133000
DTEND;TZID=America/New_York:20251223T140000
DTSTAMP:20260421T001039
CREATED:20251125T223908Z
LAST-MODIFIED:20251125T223908Z
UID:10011650-1766496600-1766498400@promiseresourcenetwork.org
SUMMARY:Coffee Hour
DESCRIPTION:
URL:https://promiseresourcenetwork.org/event/coffee-hour-2-2/2025-12-23/
LOCATION:Promise Resource Network\, 1401 E 7th Street\, Charlotte\, NC\, 28204\, United States
CATEGORIES:Cafe,Charlotte,Charlotte Cafe,On-Site
END:VEVENT
BEGIN:VEVENT
DTSTART;TZID=America/New_York:20251223T130000
DTEND;TZID=America/New_York:20251223T133000
DTSTAMP:20260421T001039
CREATED:20251125T223506Z
LAST-MODIFIED:20251125T223506Z
UID:10011642-1766494800-1766496600@promiseresourcenetwork.org
SUMMARY:Recovery Cafe Milieu
DESCRIPTION:
URL:https://promiseresourcenetwork.org/event/recovery-cafe-milieu/2025-12-23/
LOCATION:Promise Resource Network\, 1401 E 7th Street\, Charlotte\, NC\, 28204\, United States
CATEGORIES:Cafe,Charlotte,Charlotte Cafe,On-Site
END:VEVENT
BEGIN:VEVENT
DTSTART;TZID=America/New_York:20251223T120000
DTEND;TZID=America/New_York:20251223T130000
DTSTAMP:20260421T001039
CREATED:20251126T165111Z
LAST-MODIFIED:20251126T165111Z
UID:10011731-1766491200-1766494800@promiseresourcenetwork.org
SUMMARY:Four Agreements
DESCRIPTION:Using a deck of cards based on the 4 Agreements\, spend this class time discussing these principles for living a life of happiness and freedom.
URL:https://promiseresourcenetwork.org/event/four-agreements/2025-12-23/
LOCATION:Raleigh Hub and Cafe\, 310 N Harrington St.\, Raleigh\, NC\, 27601
CATEGORIES:On-Site,Raleigh,Raleigh Cafe
END:VEVENT
BEGIN:VEVENT
DTSTART;TZID=America/New_York:20251223T100000
DTEND;TZID=America/New_York:20251223T110000
DTSTAMP:20260421T001039
CREATED:20251126T165005Z
LAST-MODIFIED:20251126T165005Z
UID:10011723-1766484000-1766487600@promiseresourcenetwork.org
SUMMARY:Grounding and Meditation
DESCRIPTION:Guided meditations and other mindfulness skills increase our ability to be present with ourselves. Follow along and learn different ways to center yourself and your mind\, bringing intention and stillness in a busy world.
URL:https://promiseresourcenetwork.org/event/grounding-and-meditation/2025-12-23/
LOCATION:Raleigh Hub and Cafe\, 310 N Harrington St.\, Raleigh\, NC\, 27601
CATEGORIES:On-Site,Raleigh,Raleigh Cafe
END:VEVENT
BEGIN:VEVENT
DTSTART;TZID=America/New_York:20251223T100000
DTEND;TZID=America/New_York:20251223T110000
DTSTAMP:20260421T001039
CREATED:20251027T195012Z
LAST-MODIFIED:20251027T195012Z
UID:10011415-1766484000-1766487600@promiseresourcenetwork.org
SUMMARY:Recovery Journaling
DESCRIPTION:
URL:https://promiseresourcenetwork.org/event/recovery-journaling/2025-12-23/
LOCATION:Promise Resource Network\, 1401 E 7th Street\, Charlotte\, NC\, 28204\, United States
CATEGORIES:Charlotte,Charlotte Hub,On-Site,Small Classroom/Computer Lab
END:VEVENT
BEGIN:VEVENT
DTSTART;TZID=America/New_York:20251223T090000
DTEND;TZID=America/New_York:20251223T100000
DTSTAMP:20260421T001039
CREATED:20251126T164903Z
LAST-MODIFIED:20251126T164903Z
UID:10011714-1766480400-1766484000@promiseresourcenetwork.org
SUMMARY:Yoga
DESCRIPTION:Come join us for some mindful movement and gentle stretching with guided yoga.
URL:https://promiseresourcenetwork.org/event/yoga/2025-12-23/
LOCATION:Raleigh Hub and Cafe\, 310 N Harrington St.\, Raleigh\, NC\, 27601
CATEGORIES:On-Site,Raleigh,Raleigh Cafe
END:VEVENT
BEGIN:VEVENT
DTSTART;TZID=America/New_York:20251223T090000
DTEND;TZID=America/New_York:20251223T100000
DTSTAMP:20260421T001039
CREATED:20251027T195228Z
LAST-MODIFIED:20251027T195228Z
UID:10011424-1766480400-1766484000@promiseresourcenetwork.org
SUMMARY:Tai Chi
DESCRIPTION:A mindfulness moving meditation. The 19 movements are soft\, slow and easy to learn. The benefits include peace of mind\, improved health\, and increased happiness. Led by one of our Cafe peer leaders\, Antonio.
URL:https://promiseresourcenetwork.org/event/tai-chi-nov/2025-12-23/
LOCATION:Promise Resource Network\, 1401 E 7th Street\, Charlotte\, NC\, 28204\, United States
CATEGORIES:Charlotte,Charlotte Hub,On-Site,Small Classroom/Computer Lab,Upstairs/Outside
END:VEVENT
BEGIN:VEVENT
DTSTART;TZID=America/New_York:20251222T143000
DTEND;TZID=America/New_York:20251222T150000
DTSTAMP:20260421T001039
CREATED:20251006T023251Z
LAST-MODIFIED:20251006T023251Z
UID:10011343-1766413800-1766415600@promiseresourcenetwork.org
SUMMARY:Spiritual Journey
DESCRIPTION:Spiritual Journey is a space for reflection\, connection\, and growth. Together we’ll explore how spirituality weaves through everyday life\, uncovering practices and wisdom that help us walk with greater presence\, healing and hope. We invite people of all backgrounds and traditions to share stories and deepen our sacred journeys.
URL:https://promiseresourcenetwork.org/event/spiritual-journey/2025-12-22/
LOCATION:Promise Resource Network\, 1401 E 7th Street\, Charlotte\, NC\, 28204\, United States
CATEGORIES:Charlotte,Charlotte Hub,On-Site,Small Classroom/Computer Lab
END:VEVENT
BEGIN:VEVENT
DTSTART;TZID=America/New_York:20251222T140000
DTEND;TZID=America/New_York:20251222T150000
DTSTAMP:20260421T001039
CREATED:20251125T223210Z
LAST-MODIFIED:20251125T223210Z
UID:10011619-1766412000-1766415600@promiseresourcenetwork.org
SUMMARY:Circle
DESCRIPTION:
URL:https://promiseresourcenetwork.org/event/circle-dec/2025-12-22/
LOCATION:Promise Resource Network\, 1401 E 7th Street\, Charlotte\, NC\, 28204\, United States
CATEGORIES:Cafe,Charlotte,Charlotte Cafe,On-Site
END:VEVENT
BEGIN:VEVENT
DTSTART;TZID=America/New_York:20251222T140000
DTEND;TZID=America/New_York:20251222T150000
DTSTAMP:20260421T001039
CREATED:20251027T194508Z
LAST-MODIFIED:20251027T194508Z
UID:10011406-1766412000-1766415600@promiseresourcenetwork.org
SUMMARY:Come As You Are
DESCRIPTION:
URL:https://promiseresourcenetwork.org/event/come-as-you-are/2025-12-22/
LOCATION:Promise Resource Network\, 1401 E 7th Street\, Charlotte\, NC\, 28204\, United States
CATEGORIES:Charlotte,Charlotte Hub,Large Classroom,On-Site
END:VEVENT
BEGIN:VEVENT
DTSTART;TZID=America/New_York:20251222T140000
DTEND;TZID=America/New_York:20251222T150000
DTSTAMP:20260421T001039
CREATED:20251027T194348Z
LAST-MODIFIED:20251027T194348Z
UID:10011398-1766412000-1766415600@promiseresourcenetwork.org
SUMMARY:Advocacy with Alex
DESCRIPTION:
URL:https://promiseresourcenetwork.org/event/advocacy-with-alex/2025-12-22/
LOCATION:Promise Resource Network\, 1401 E 7th Street\, Charlotte\, NC\, 28204\, United States
CATEGORIES:Charlotte,Charlotte Hub,On-Site,Upstairs/Outside
END:VEVENT
BEGIN:VEVENT
DTSTART;TZID=America/New_York:20251222T130000
DTEND;TZID=America/New_York:20251222T140000
DTSTAMP:20260421T001039
CREATED:20251126T161858Z
LAST-MODIFIED:20251126T161858Z
UID:10011698-1766408400-1766412000@promiseresourcenetwork.org
SUMMARY:Poetry
DESCRIPTION:
URL:https://promiseresourcenetwork.org/event/poetry/2025-12-22/
LOCATION:The Retreat @ Fernwood\, 119 E Hargett St Suite 010\, Raleigh\, NC\, 27601\, United States
CATEGORIES:On-Site,Raleigh,Raleigh Hub
END:VEVENT
BEGIN:VEVENT
DTSTART;TZID=America/New_York:20251222T120000
DTEND;TZID=America/New_York:20251222T130000
DTSTAMP:20260421T001039
CREATED:20251230T172106Z
LAST-MODIFIED:20251230T172106Z
UID:10011807-1766404800-1766408400@promiseresourcenetwork.org
SUMMARY:Men's Group
DESCRIPTION:A time for men to come together with their group and support each other\, learn from each other\, and grow together as individuals and as a group.
URL:https://promiseresourcenetwork.org/event/mens-group-2/2025-12-22/
LOCATION:Raleigh Hub and Cafe\, 310 N Harrington St.\, Raleigh\, NC\, 27601
CATEGORIES:On-Site,Raleigh,Raleigh Cafe
END:VEVENT
BEGIN:VEVENT
DTSTART;TZID=America/New_York:20251222T120000
DTEND;TZID=America/New_York:20251222T130000
DTSTAMP:20260421T001039
CREATED:20251126T161644Z
LAST-MODIFIED:20251126T161644Z
UID:10011693-1766404800-1766408400@promiseresourcenetwork.org
SUMMARY:Men's Group
DESCRIPTION:A time for men to come together with their group and support each other\, learn from each other\, and grow together as individuals and as a group.
URL:https://promiseresourcenetwork.org/event/mens-group-ral/2025-12-22/
LOCATION:The Retreat @ Fernwood\, 119 E Hargett St Suite 010\, Raleigh\, NC\, 27601\, United States
CATEGORIES:On-Site,Raleigh,Raleigh Hub
END:VEVENT
BEGIN:VEVENT
DTSTART;TZID=America/New_York:20251222T100000
DTEND;TZID=America/New_York:20251222T110000
DTSTAMP:20260421T001039
CREATED:20251125T210300Z
LAST-MODIFIED:20251125T210300Z
UID:10011579-1766397600-1766401200@promiseresourcenetwork.org
SUMMARY:Goal Setting
DESCRIPTION:
URL:https://promiseresourcenetwork.org/event/goal-setting/2025-12-22/
LOCATION:Promise Resource Network\, 1401 E 7th Street\, Charlotte\, NC\, 28204\, United States
CATEGORIES:Charlotte,Charlotte Hub,On-Site,Small Classroom/Computer Lab
END:VEVENT
END:VCALENDAR