BEGIN:VCALENDAR
VERSION:2.0
PRODID:-//Promise Resource Network - ECPv6.15.20//NONSGML v1.0//EN
CALSCALE:GREGORIAN
METHOD:PUBLISH
X-WR-CALNAME:Promise Resource Network
X-ORIGINAL-URL:https://promiseresourcenetwork.org
X-WR-CALDESC:Events for Promise Resource Network
REFRESH-INTERVAL;VALUE=DURATION:PT1H
X-Robots-Tag:noindex
X-PUBLISHED-TTL:PT1H
BEGIN:VTIMEZONE
TZID:America/New_York
BEGIN:DAYLIGHT
TZOFFSETFROM:-0500
TZOFFSETTO:-0400
TZNAME:EDT
DTSTART:20240310T070000
END:DAYLIGHT
BEGIN:STANDARD
TZOFFSETFROM:-0400
TZOFFSETTO:-0500
TZNAME:EST
DTSTART:20241103T060000
END:STANDARD
BEGIN:DAYLIGHT
TZOFFSETFROM:-0500
TZOFFSETTO:-0400
TZNAME:EDT
DTSTART:20250309T070000
END:DAYLIGHT
BEGIN:STANDARD
TZOFFSETFROM:-0400
TZOFFSETTO:-0500
TZNAME:EST
DTSTART:20251102T060000
END:STANDARD
BEGIN:DAYLIGHT
TZOFFSETFROM:-0500
TZOFFSETTO:-0400
TZNAME:EDT
DTSTART:20260308T070000
END:DAYLIGHT
BEGIN:STANDARD
TZOFFSETFROM:-0400
TZOFFSETTO:-0500
TZNAME:EST
DTSTART:20261101T060000
END:STANDARD
END:VTIMEZONE
BEGIN:VEVENT
DTSTART;VALUE=DATE:20251025
DTEND;VALUE=DATE:20251026
DTSTAMP:20260424T095846
CREATED:20251006T024637Z
LAST-MODIFIED:20251006T024637Z
UID:10011355-1761350400-1761436799@promiseresourcenetwork.org
SUMMARY:CAFE OPENS 9:30AM
DESCRIPTION:
URL:https://promiseresourcenetwork.org/event/cafe-opens-2/2025-10-25/
LOCATION:The Retreat @ Fernwood\, 119 E Hargett St Suite 010\, Raleigh\, NC\, 27601\, United States
CATEGORIES:Cafe,On-Site,Raleigh
END:VEVENT
BEGIN:VEVENT
DTSTART;TZID=America/New_York:20251024T140000
DTEND;TZID=America/New_York:20251024T150000
DTSTAMP:20260424T095846
CREATED:20251006T032437Z
LAST-MODIFIED:20251006T032437Z
UID:10011379-1761314400-1761318000@promiseresourcenetwork.org
SUMMARY:Dopamine Dance with Toney
DESCRIPTION:Spend 30 minutes shaking it out with upbeat music to end the week pumped up and in good spirits.
URL:https://promiseresourcenetwork.org/event/dopamine-dance-with-toney/2025-10-24/
LOCATION:The Retreat @ Fernwood\, 119 E Hargett St Suite 010\, Raleigh\, NC\, 27601\, United States
CATEGORIES:On-Site,Raleigh
END:VEVENT
BEGIN:VEVENT
DTSTART;TZID=America/New_York:20251024T110000
DTEND;TZID=America/New_York:20251024T120000
DTSTAMP:20260424T095846
CREATED:20251125T215653Z
LAST-MODIFIED:20251125T215653Z
UID:10011597-1761303600-1761307200@promiseresourcenetwork.org
SUMMARY:CAFE BUS STOP
DESCRIPTION:
URL:https://promiseresourcenetwork.org/event/cafe-bus-stop-clt-hub/2025-10-24/
LOCATION:Promise Resource Network\, 1401 E 7th Street\, Charlotte\, NC\, 28204\, United States
CATEGORIES:Charlotte,Charlotte Hub,On-Site,Upstairs/Outside
END:VEVENT
BEGIN:VEVENT
DTSTART;TZID=America/New_York:20251024T110000
DTEND;TZID=America/New_York:20251024T120000
DTSTAMP:20260424T095846
CREATED:20251027T201954Z
LAST-MODIFIED:20251027T201954Z
UID:10011470-1761303600-1761307200@promiseresourcenetwork.org
SUMMARY:CAFE BUS STOP
DESCRIPTION:
URL:https://promiseresourcenetwork.org/event/cafe-bus-stop/2025-10-24/
LOCATION:Promise Resource Network\, 1401 E 7th Street\, Charlotte\, NC\, 28204\, United States
CATEGORIES:Charlotte,Charlotte Cafe,Charlotte Hub,On-Site
END:VEVENT
BEGIN:VEVENT
DTSTART;TZID=America/New_York:20251024T110000
DTEND;TZID=America/New_York:20251024T120000
DTSTAMP:20260424T095846
CREATED:20251006T032006Z
LAST-MODIFIED:20251006T032006Z
UID:10011374-1761303600-1761307200@promiseresourcenetwork.org
SUMMARY:Changing Perspectives with Xiggy
DESCRIPTION:The way we look at the world and ourselves matters. This class focuses on providing an outlook on life from all different angles to see how different perspectives can change our feelings. Learn to recognize your strengths\, challenge and shift negative self-talk\, and celebrate your accomplishments.
URL:https://promiseresourcenetwork.org/event/changing-perspectives-with-xiggy-2/2025-10-24/
LOCATION:The Retreat @ Fernwood\, 119 E Hargett St Suite 010\, Raleigh\, NC\, 27601\, United States
CATEGORIES:On-Site,Raleigh
END:VEVENT
BEGIN:VEVENT
DTSTART;TZID=America/New_York:20251024T110000
DTEND;TZID=America/New_York:20251024T120000
DTSTAMP:20260424T095846
CREATED:20251003T193812Z
LAST-MODIFIED:20251003T193812Z
UID:10011244-1761303600-1761307200@promiseresourcenetwork.org
SUMMARY:CAFE BUS STOP CLEAN UP
DESCRIPTION:
URL:https://promiseresourcenetwork.org/event/cafe-bus-stop-clean-up-2/2025-10-24/
LOCATION:Promise Resource Network\, 1401 E 7th Street\, Charlotte\, NC\, 28204\, United States
CATEGORIES:Charlotte,On-Site,Upstairs/Outside
END:VEVENT
BEGIN:VEVENT
DTSTART;VALUE=DATE:20251024
DTEND;VALUE=DATE:20251025
DTSTAMP:20260424T095846
CREATED:20250603T172151Z
LAST-MODIFIED:20250603T172151Z
UID:10011115-1761264000-1761350399@promiseresourcenetwork.org
SUMMARY:HUB OPENS AT 10 AM
DESCRIPTION:
URL:https://promiseresourcenetwork.org/event/hub-opens-at-10-am-mar-2/2025-10-24/
LOCATION:NC
CATEGORIES:Cafe,Charlotte,On-Site
END:VEVENT
END:VCALENDAR