BEGIN:VCALENDAR
VERSION:2.0
PRODID:-//Promise Resource Network - ECPv6.15.20//NONSGML v1.0//EN
CALSCALE:GREGORIAN
METHOD:PUBLISH
X-WR-CALNAME:Promise Resource Network
X-ORIGINAL-URL:https://promiseresourcenetwork.org
X-WR-CALDESC:Events for Promise Resource Network
REFRESH-INTERVAL;VALUE=DURATION:PT1H
X-Robots-Tag:noindex
X-PUBLISHED-TTL:PT1H
BEGIN:VTIMEZONE
TZID:America/New_York
BEGIN:DAYLIGHT
TZOFFSETFROM:-0500
TZOFFSETTO:-0400
TZNAME:EDT
DTSTART:20240310T070000
END:DAYLIGHT
BEGIN:STANDARD
TZOFFSETFROM:-0400
TZOFFSETTO:-0500
TZNAME:EST
DTSTART:20241103T060000
END:STANDARD
BEGIN:DAYLIGHT
TZOFFSETFROM:-0500
TZOFFSETTO:-0400
TZNAME:EDT
DTSTART:20250309T070000
END:DAYLIGHT
BEGIN:STANDARD
TZOFFSETFROM:-0400
TZOFFSETTO:-0500
TZNAME:EST
DTSTART:20251102T060000
END:STANDARD
BEGIN:DAYLIGHT
TZOFFSETFROM:-0500
TZOFFSETTO:-0400
TZNAME:EDT
DTSTART:20260308T070000
END:DAYLIGHT
BEGIN:STANDARD
TZOFFSETFROM:-0400
TZOFFSETTO:-0500
TZNAME:EST
DTSTART:20261101T060000
END:STANDARD
END:VTIMEZONE
BEGIN:VEVENT
DTSTART;TZID=America/New_York:20251028T150000
DTEND;TZID=America/New_York:20251028T170000
DTSTAMP:20260425T085214
CREATED:20250401T163713Z
LAST-MODIFIED:20250401T163713Z
UID:10011099-1761663600-1761670800@promiseresourcenetwork.org
SUMMARY:Meet Me at the Hub
DESCRIPTION:
URL:https://promiseresourcenetwork.org/event/meet-me-at-the-hub-a-day-of-self-care-activities/2025-10-28/
LOCATION:Promise Resource Network\, 1401 E 7th Street\, Charlotte\, NC\, 28204\, United States
CATEGORIES:Charlotte,Charlotte Hub,On-Site
END:VEVENT
BEGIN:VEVENT
DTSTART;TZID=America/New_York:20251028T133000
DTEND;TZID=America/New_York:20251028T143000
DTSTAMP:20260425T085214
CREATED:20251006T020602Z
LAST-MODIFIED:20251006T020602Z
UID:10011332-1761658200-1761661800@promiseresourcenetwork.org
SUMMARY:African Dance
DESCRIPTION:
URL:https://promiseresourcenetwork.org/event/drum-circle-african-dance-2-2/2025-10-28/
LOCATION:Promise Resource Network\, 1401 E 7th Street\, Charlotte\, NC\, 28204\, United States
CATEGORIES:Charlotte,On-Site,Upstairs/Outside
END:VEVENT
BEGIN:VEVENT
DTSTART;TZID=America/New_York:20251028T130000
DTEND;TZID=America/New_York:20251028T140000
DTSTAMP:20260425T085214
CREATED:20251006T020301Z
LAST-MODIFIED:20251006T020301Z
UID:10011329-1761656400-1761660000@promiseresourcenetwork.org
SUMMARY:Coffee Hour
DESCRIPTION:
URL:https://promiseresourcenetwork.org/event/coffee-hour-2/2025-10-28/
LOCATION:Promise Resource Network\, 1401 E 7th Street\, Charlotte\, NC\, 28204\, United States
CATEGORIES:Cafe,Charlotte,On-Site
END:VEVENT
BEGIN:VEVENT
DTSTART;TZID=America/New_York:20251028T130000
DTEND;TZID=America/New_York:20251028T133000
DTSTAMP:20260425T085214
CREATED:20251006T020108Z
LAST-MODIFIED:20251006T020108Z
UID:10011321-1761656400-1761658200@promiseresourcenetwork.org
SUMMARY:Milieu
DESCRIPTION:
URL:https://promiseresourcenetwork.org/event/milleu-2/2025-10-28/
LOCATION:Promise Resource Network\, 1401 E 7th Street\, Charlotte\, NC\, 28204\, United States
CATEGORIES:Cafe,Charlotte,On-Site
END:VEVENT
BEGIN:VEVENT
DTSTART;VALUE=DATE:20251028
DTEND;VALUE=DATE:20251029
DTSTAMP:20260425T085215
CREATED:20251006T025011Z
LAST-MODIFIED:20251006T025011Z
UID:10011361-1761609600-1761695999@promiseresourcenetwork.org
SUMMARY:CAFE OPENS 3:00PM
DESCRIPTION:
URL:https://promiseresourcenetwork.org/event/cafe-opens-300pm-2/2025-10-28/
LOCATION:The Retreat @ Fernwood\, 119 E Hargett St Suite 010\, Raleigh\, NC\, 27601\, United States
CATEGORIES:Cafe,On-Site,Raleigh
END:VEVENT
BEGIN:VEVENT
DTSTART;TZID=America/New_York:20251027T120000
DTEND;TZID=America/New_York:20251027T130000
DTSTAMP:20260425T085215
CREATED:20251006T033859Z
LAST-MODIFIED:20251006T033859Z
UID:10011383-1761566400-1761570000@promiseresourcenetwork.org
SUMMARY:8 Dimensions Blueprint with Kirra
DESCRIPTION:Each class discusses a different dimension of wellness and how we can use the 8 dimensions framework for our own recovery journeys.
URL:https://promiseresourcenetwork.org/event/8-dimensions-blueprint-with-kirra/2025-10-27/
LOCATION:The Retreat @ Fernwood\, 119 E Hargett St Suite 010\, Raleigh\, NC\, 27601\, United States
CATEGORIES:On-Site,Raleigh
END:VEVENT
BEGIN:VEVENT
DTSTART;TZID=America/New_York:20251027T113000
DTEND;TZID=America/New_York:20251027T123000
DTSTAMP:20260425T085215
CREATED:20251003T194855Z
LAST-MODIFIED:20251003T194855Z
UID:10011294-1761564600-1761568200@promiseresourcenetwork.org
SUMMARY:Dream It. Plan It. Do It.
DESCRIPTION:Join Shannon in discussions around the power of positive thoughts and learn what may hold us back from having a positive self image and positive self-esteem.
URL:https://promiseresourcenetwork.org/event/dream-it-plan-it-do-it-copy/2025-10-27/
LOCATION:Promise Resource Network\, 1401 E 7th Street\, Charlotte\, NC\, 28204\, United States
CATEGORIES:Charlotte,Large Classroom,On-Site
END:VEVENT
BEGIN:VEVENT
DTSTART;TZID=America/New_York:20251027T100000
DTEND;TZID=America/New_York:20251027T110000
DTSTAMP:20260425T085215
CREATED:20251003T194715Z
LAST-MODIFIED:20251003T194715Z
UID:10011269-1761559200-1761562800@promiseresourcenetwork.org
SUMMARY:Purple Ribbon Club
DESCRIPTION:A safe and supportive space for survivors and those impacted by domestic violence. The Purple Ribbon Club provides a judgment-free environment to share experiences\, gain strength\, and find healing among those who understand.
URL:https://promiseresourcenetwork.org/event/purple-ribbon-club-2-copy/2025-10-27/
LOCATION:Promise Resource Network\, 1401 E 7th Street\, Charlotte\, NC\, 28204\, United States
CATEGORIES:Charlotte,Charlotte Hub,On-Site,Upstairs/Outside
END:VEVENT
BEGIN:VEVENT
DTSTART;TZID=America/New_York:20251027T100000
DTEND;TZID=America/New_York:20251027T110000
DTSTAMP:20260425T085215
CREATED:20251003T194636Z
LAST-MODIFIED:20251003T194636Z
UID:10011253-1761559200-1761562800@promiseresourcenetwork.org
SUMMARY:Another Way
DESCRIPTION:Join Sharon to talk about emotions and how to regulate\, manage\, and live with them. Learn how to navigate emotions whether positive or negative.
URL:https://promiseresourcenetwork.org/event/another-way/2025-10-27/
LOCATION:Promise Resource Network\, 1401 E 7th Street\, Charlotte\, NC\, 28204\, United States
CATEGORIES:Charlotte,Charlotte Hub,Large Classroom,On-Site
END:VEVENT
BEGIN:VEVENT
DTSTART;TZID=America/New_York:20251027T091500
DTEND;TZID=America/New_York:20251027T100000
DTSTAMP:20260425T085215
CREATED:20251003T194515Z
LAST-MODIFIED:20251003T194515Z
UID:10011249-1761556500-1761559200@promiseresourcenetwork.org
SUMMARY:The Gathering Table
DESCRIPTION:The Gathering Table is a warm\, welcoming space where community comes together over a shared breakfast. More than just a meal\, it’s a time to connect\, find support\, and start the week with nourishment for both body and soul. Everyone has a seat at the table.
URL:https://promiseresourcenetwork.org/event/the-gathering-table-2-2/2025-10-27/
LOCATION:Promise Resource Network\, 1401 E 7th Street\, Charlotte\, NC\, 28204\, United States
CATEGORIES:Charlotte,Large Classroom,On-Site
END:VEVENT
BEGIN:VEVENT
DTSTART;VALUE=DATE:20251027
DTEND;VALUE=DATE:20251028
DTSTAMP:20260425T085215
CREATED:20251006T024637Z
LAST-MODIFIED:20251006T024637Z
UID:10011356-1761523200-1761609599@promiseresourcenetwork.org
SUMMARY:CAFE OPENS 9:30AM
DESCRIPTION:
URL:https://promiseresourcenetwork.org/event/cafe-opens-2/2025-10-27/
LOCATION:The Retreat @ Fernwood\, 119 E Hargett St Suite 010\, Raleigh\, NC\, 27601\, United States
CATEGORIES:Cafe,On-Site,Raleigh
END:VEVENT
BEGIN:VEVENT
DTSTART;VALUE=DATE:20251025
DTEND;VALUE=DATE:20251026
DTSTAMP:20260425T085215
CREATED:20251006T024637Z
LAST-MODIFIED:20251006T024637Z
UID:10011355-1761350400-1761436799@promiseresourcenetwork.org
SUMMARY:CAFE OPENS 9:30AM
DESCRIPTION:
URL:https://promiseresourcenetwork.org/event/cafe-opens-2/2025-10-25/
LOCATION:The Retreat @ Fernwood\, 119 E Hargett St Suite 010\, Raleigh\, NC\, 27601\, United States
CATEGORIES:Cafe,On-Site,Raleigh
END:VEVENT
END:VCALENDAR